BEGIN:VCALENDAR
VERSION:2.0
PRODID:-//North Shore Chapter of the American Guild of Organists - ECPv6.15.20//NONSGML v1.0//EN
CALSCALE:GREGORIAN
METHOD:PUBLISH
X-ORIGINAL-URL:https://northshoreago.org
X-WR-CALDESC:Events for North Shore Chapter of the American Guild of Organists
REFRESH-INTERVAL;VALUE=DURATION:PT1H
X-Robots-Tag:noindex
X-PUBLISHED-TTL:PT1H
BEGIN:VTIMEZONE
TZID:America/Chicago
BEGIN:DAYLIGHT
TZOFFSETFROM:-0600
TZOFFSETTO:-0500
TZNAME:CDT
DTSTART:20150308T080000
END:DAYLIGHT
BEGIN:STANDARD
TZOFFSETFROM:-0500
TZOFFSETTO:-0600
TZNAME:CST
DTSTART:20151101T070000
END:STANDARD
BEGIN:DAYLIGHT
TZOFFSETFROM:-0600
TZOFFSETTO:-0500
TZNAME:CDT
DTSTART:20160313T080000
END:DAYLIGHT
BEGIN:STANDARD
TZOFFSETFROM:-0500
TZOFFSETTO:-0600
TZNAME:CST
DTSTART:20161106T070000
END:STANDARD
BEGIN:DAYLIGHT
TZOFFSETFROM:-0600
TZOFFSETTO:-0500
TZNAME:CDT
DTSTART:20170312T080000
END:DAYLIGHT
BEGIN:STANDARD
TZOFFSETFROM:-0500
TZOFFSETTO:-0600
TZNAME:CST
DTSTART:20171105T070000
END:STANDARD
END:VTIMEZONE
BEGIN:VEVENT
DTSTART;TZID=America/Chicago:20160228T150000
DTEND;TZID=America/Chicago:20160228T180000
DTSTAMP:20260422T185515
CREATED:20151025T201402Z
LAST-MODIFIED:20151025T201413Z
UID:2009-1456671600-1456682400@northshoreago.org
SUMMARY:Clergy-Musician Relationships\, Part 2: Rivals or a Team?
DESCRIPTION:Collegial collaboration between clergy and musicians is vital to the ministry of the church. Whether it is a change in worship style or in music\, significant challenges face both clergy and musicians. A panel discussion will offer ways to address and/or avoid conflict situations and suggest ways of building supportive relationships. Refreshments following. Recommended reading prior to event: Rivals or a Team? Clergy-Musician Relationships in the 21st Century by Eileen Guenther; MorningStar Music Publishers. Contact: Royce Eckhardt (royceeckhardt@sbcglobal.net).
URL:https://northshoreago.org/event/clergy-musician-relationships-part-2-rivals-or-a-team/
LOCATION:Garrett Seminary\, 2121 Sheridan Road\, Evanston\, IL\, 60201\, United States
CATEGORIES:NSAGO events
END:VEVENT
END:VCALENDAR