BEGIN:VCALENDAR
VERSION:2.0
PRODID:-//North Shore Chapter of the American Guild of Organists - ECPv6.15.20//NONSGML v1.0//EN
CALSCALE:GREGORIAN
METHOD:PUBLISH
X-WR-CALNAME:North Shore Chapter of the American Guild of Organists
X-ORIGINAL-URL:https://northshoreago.org
X-WR-CALDESC:Events for North Shore Chapter of the American Guild of Organists
REFRESH-INTERVAL;VALUE=DURATION:PT1H
X-Robots-Tag:noindex
X-PUBLISHED-TTL:PT1H
BEGIN:VTIMEZONE
TZID:America/Chicago
BEGIN:DAYLIGHT
TZOFFSETFROM:-0600
TZOFFSETTO:-0500
TZNAME:CDT
DTSTART:20150308T080000
END:DAYLIGHT
BEGIN:STANDARD
TZOFFSETFROM:-0500
TZOFFSETTO:-0600
TZNAME:CST
DTSTART:20151101T070000
END:STANDARD
BEGIN:DAYLIGHT
TZOFFSETFROM:-0600
TZOFFSETTO:-0500
TZNAME:CDT
DTSTART:20160313T080000
END:DAYLIGHT
BEGIN:STANDARD
TZOFFSETFROM:-0500
TZOFFSETTO:-0600
TZNAME:CST
DTSTART:20161106T070000
END:STANDARD
BEGIN:DAYLIGHT
TZOFFSETFROM:-0600
TZOFFSETTO:-0500
TZNAME:CDT
DTSTART:20170312T080000
END:DAYLIGHT
BEGIN:STANDARD
TZOFFSETFROM:-0500
TZOFFSETTO:-0600
TZNAME:CST
DTSTART:20171105T070000
END:STANDARD
END:VTIMEZONE
BEGIN:VEVENT
DTSTART;TZID=America/Chicago:20160516T193000
DTEND;TZID=America/Chicago:20160516T213000
DTSTAMP:20260422T161031
CREATED:20160428T192622Z
LAST-MODIFIED:20160428T192622Z
UID:2534-1463427000-1463434200@northshoreago.org
SUMMARY:FOURTH PRESBYTERIAN CHURCH OF CHICAGO Dedication of the New Andrew Pipe OrganAaron David Miller\, Recitalist
DESCRIPTION:FOURTH PRESBYTERIAN CHURCH OF CHICAGO \n126 East Chestnut Street\nChicago\, Illinois 60611\nMonday\, May 16th\, 7:30 p.m.\nDedication of the New Andrew Pipe Organ\nAaron David Miller\, Recitalist; Director of Music\, House of Hope Presbyterian Church\, St. Paul\, MN\n\nThe impressive improvisation skills of organist Aaron David Miller meet the new Andrew Pipe Organ (Quimby 2014). Winner of numerous international awards for performance as well as composition\, Aaron has been heard in concert across the country as well as on radio and television. A native of Chicago\, Aaron served as Organist at Fourth Presbyterian from 1999 to 2000. Now he returns to introduce the Andrews organ to all of Chicago. Event Co-Sponsored by Fourth Presbyterian Church of Chicago and the Chicago Chapter AGO.\n \nFor additional information as well as Aaron’s complete May 16th program\, visit:ChicagoAGO.com
URL:https://northshoreago.org/event/fourth-presbyterian-church-of-chicago-dedication-of-the-new-andrew-pipe-organaaron-david-miller-recitalist/
LOCATION:Fourth Presbyterian Church\, 126 E. Chestnut\, Chicago\, 60611\, United States
CATEGORIES:Non-NSAGO events
ATTACH;FMTTYPE=image/jpeg:https://northshoreago.org/wp-content/uploads/2016/03/Organ-Events-in-Chicagoland-e1464970164583.jpg
END:VEVENT
END:VCALENDAR