BEGIN:VCALENDAR
VERSION:2.0
PRODID:-//North Shore Chapter of the American Guild of Organists - ECPv6.15.20//NONSGML v1.0//EN
CALSCALE:GREGORIAN
METHOD:PUBLISH
X-WR-CALNAME:North Shore Chapter of the American Guild of Organists
X-ORIGINAL-URL:https://northshoreago.org
X-WR-CALDESC:Events for North Shore Chapter of the American Guild of Organists
REFRESH-INTERVAL;VALUE=DURATION:PT1H
X-Robots-Tag:noindex
X-PUBLISHED-TTL:PT1H
BEGIN:VTIMEZONE
TZID:America/Chicago
BEGIN:DAYLIGHT
TZOFFSETFROM:-0600
TZOFFSETTO:-0500
TZNAME:CDT
DTSTART:20150308T080000
END:DAYLIGHT
BEGIN:STANDARD
TZOFFSETFROM:-0500
TZOFFSETTO:-0600
TZNAME:CST
DTSTART:20151101T070000
END:STANDARD
BEGIN:DAYLIGHT
TZOFFSETFROM:-0600
TZOFFSETTO:-0500
TZNAME:CDT
DTSTART:20160313T080000
END:DAYLIGHT
BEGIN:STANDARD
TZOFFSETFROM:-0500
TZOFFSETTO:-0600
TZNAME:CST
DTSTART:20161106T070000
END:STANDARD
BEGIN:DAYLIGHT
TZOFFSETFROM:-0600
TZOFFSETTO:-0500
TZNAME:CDT
DTSTART:20170312T080000
END:DAYLIGHT
BEGIN:STANDARD
TZOFFSETFROM:-0500
TZOFFSETTO:-0600
TZNAME:CST
DTSTART:20171105T070000
END:STANDARD
END:VTIMEZONE
BEGIN:VEVENT
DTSTART;TZID=America/Chicago:20160527T200000
DTEND;TZID=America/Chicago:20160527T220000
DTSTAMP:20260422T161021
CREATED:20160502T174411Z
LAST-MODIFIED:20160502T174444Z
UID:2567-1464379200-1464386400@northshoreago.org
SUMMARY:Nathan Laube and Opus 327 - St. Luke's Episcopal Church\, Evanston
DESCRIPTION:St. Luke’s Episcopal Church\n939 Hinman Avenue\nEvanston\, IL 60202\n\nFriday\, May 27\, 2016\, 8:00 pm\, Nathan Laube and Opus 327.\nNathan Laube\, organist\, Eastman School of Music. Organ recital to benefit St. Luke’s 1922 E.M. Skinner pipe organ\, Skinner’s Opus 327. For more information go to www.stlukesevanston.org or call 847-475-3630.
URL:https://northshoreago.org/event/nathan-laube-and-opus-327-st-lukes-episcopal-church-evanston/
LOCATION:St. Luke’s Episcopal Church\, 939 Hinman Avenue\, Evanston\, IL\, 60202\, United States
ATTACH;FMTTYPE=image/jpeg:https://northshoreago.org/wp-content/uploads/2016/03/Organ-Events-in-Chicagoland-e1464970164583.jpg
END:VEVENT
END:VCALENDAR