BEGIN:VCALENDAR
VERSION:2.0
PRODID:-//North Shore Chapter of the American Guild of Organists - ECPv6.15.20//NONSGML v1.0//EN
CALSCALE:GREGORIAN
METHOD:PUBLISH
X-WR-CALNAME:North Shore Chapter of the American Guild of Organists
X-ORIGINAL-URL:https://northshoreago.org
X-WR-CALDESC:Events for North Shore Chapter of the American Guild of Organists
REFRESH-INTERVAL;VALUE=DURATION:PT1H
X-Robots-Tag:noindex
X-PUBLISHED-TTL:PT1H
BEGIN:VTIMEZONE
TZID:America/Chicago
BEGIN:DAYLIGHT
TZOFFSETFROM:-0600
TZOFFSETTO:-0500
TZNAME:CDT
DTSTART:20150308T080000
END:DAYLIGHT
BEGIN:STANDARD
TZOFFSETFROM:-0500
TZOFFSETTO:-0600
TZNAME:CST
DTSTART:20151101T070000
END:STANDARD
BEGIN:DAYLIGHT
TZOFFSETFROM:-0600
TZOFFSETTO:-0500
TZNAME:CDT
DTSTART:20160313T080000
END:DAYLIGHT
BEGIN:STANDARD
TZOFFSETFROM:-0500
TZOFFSETTO:-0600
TZNAME:CST
DTSTART:20161106T070000
END:STANDARD
BEGIN:DAYLIGHT
TZOFFSETFROM:-0600
TZOFFSETTO:-0500
TZNAME:CDT
DTSTART:20170312T080000
END:DAYLIGHT
BEGIN:STANDARD
TZOFFSETFROM:-0500
TZOFFSETTO:-0600
TZNAME:CST
DTSTART:20171105T070000
END:STANDARD
END:VTIMEZONE
BEGIN:VEVENT
DTSTART;TZID=America/Chicago:20160605T160000
DTEND;TZID=America/Chicago:20160605T173000
DTSTAMP:20260422T160904
CREATED:20160331T195856Z
LAST-MODIFIED:20160331T195856Z
UID:2484-1465142400-1465147800@northshoreago.org
SUMMARY:ORGAN INSTALLATION CONCERT SERIES\, Marie Bernadette Duforcet Hakim
DESCRIPTION:ST. MARK’S EPISCOPAL CHURCH ORGAN INSTALLATION CONCERT SERIES\n393 N. Main Street\nGlen Ellyn\, IL 60137\nSunday\, June 5\, 2016\, 4:00pm\nMarie Bernadette Duforcet Hakim\, Paris
URL:https://northshoreago.org/event/organ-installation-concert-series-marie-bernadette-duforcet-hakim/
LOCATION:ST. MARK’S EPISCOPAL CHURCH\, 393 n Main St\, Glen Ellyn\, I\, 60137\, United States
ATTACH;FMTTYPE=image/jpeg:https://northshoreago.org/wp-content/uploads/2016/03/Organ-Events-in-Chicagoland-e1464970164583.jpg
END:VEVENT
BEGIN:VEVENT
DTSTART;TZID=America/Chicago:20160605T160000
DTEND;TZID=America/Chicago:20160605T180000
DTSTAMP:20260422T160904
CREATED:20160603T160736Z
LAST-MODIFIED:20160603T161022Z
UID:2668-1465142400-1465149600@northshoreago.org
SUMMARY:Annual Organ Scholar Award Recital
DESCRIPTION: Immanuel Lutheran Church\n 616 Lake Street\nEvanston\, IL\nSunday\, June 5th 4:00 pm\nAnnual Organ Scholar Award Recital.   Nicole Simental\, a third-year Doctor of Music organ student at Indiana University.  The recipient of this year’s Immanuel Lutheran Organ Scholar Award is Nicole Simental\, a third-year Doctor of Music organ student at Indiana University. She will be giving her recital at Immanuel Lutheran Church on Sunday\, June 5\, 4:00 P.M.\, followed by a reception in the Fellowship Hall.  The concert is free and open to the public.  For more info\, contact Laurie Stivers  847 809 6268.
URL:https://northshoreago.org/event/annual-organ-scholar-award-recital/
LOCATION:Immanuel Lutheran Church\, 616 Lake Street\, Evanston\, 60201\, United States
CATEGORIES:Non-NSAGO events
ATTACH;FMTTYPE=image/jpeg:https://northshoreago.org/wp-content/uploads/2016/03/Organ-Events-in-Chicagoland-e1464970164583.jpg
END:VEVENT
END:VCALENDAR