BEGIN:VCALENDAR
VERSION:2.0
PRODID:-//North Shore Chapter of the American Guild of Organists - ECPv6.15.20//NONSGML v1.0//EN
CALSCALE:GREGORIAN
METHOD:PUBLISH
X-WR-CALNAME:North Shore Chapter of the American Guild of Organists
X-ORIGINAL-URL:https://northshoreago.org
X-WR-CALDESC:Events for North Shore Chapter of the American Guild of Organists
REFRESH-INTERVAL;VALUE=DURATION:PT1H
X-Robots-Tag:noindex
X-PUBLISHED-TTL:PT1H
BEGIN:VTIMEZONE
TZID:America/Chicago
BEGIN:DAYLIGHT
TZOFFSETFROM:-0600
TZOFFSETTO:-0500
TZNAME:CDT
DTSTART:20150308T080000
END:DAYLIGHT
BEGIN:STANDARD
TZOFFSETFROM:-0500
TZOFFSETTO:-0600
TZNAME:CST
DTSTART:20151101T070000
END:STANDARD
BEGIN:DAYLIGHT
TZOFFSETFROM:-0600
TZOFFSETTO:-0500
TZNAME:CDT
DTSTART:20160313T080000
END:DAYLIGHT
BEGIN:STANDARD
TZOFFSETFROM:-0500
TZOFFSETTO:-0600
TZNAME:CST
DTSTART:20161106T070000
END:STANDARD
BEGIN:DAYLIGHT
TZOFFSETFROM:-0600
TZOFFSETTO:-0500
TZNAME:CDT
DTSTART:20170312T080000
END:DAYLIGHT
BEGIN:STANDARD
TZOFFSETFROM:-0500
TZOFFSETTO:-0600
TZNAME:CST
DTSTART:20171105T070000
END:STANDARD
END:VTIMEZONE
BEGIN:VEVENT
DTSTART;TZID=America/Chicago:20161029T170000
DTEND;TZID=America/Chicago:20161029T190000
DTSTAMP:20260422T024441
CREATED:20160916T035658Z
LAST-MODIFIED:20160916T035742Z
UID:2793-1477760400-1477767600@northshoreago.org
SUMMARY:All Hallow's Eve Service
DESCRIPTION:St. Matthew’s Episcopal Church\n5900 Seventh Ave.\nKenosha\, Wisconsin  53140 \nSaturday\, October 29th at 5:00\nOrgan Recital/All Hallow’s Eve Service\nBrian Schoettler\, Organist\, Kay Sutton\, Organist\, Diana Iorio\, Violinist\nFor more info contact Kay Sutton  kaysutton@comcast.net
URL:https://northshoreago.org/event/all-hallows-eve-service/
LOCATION:St Matthew’s Episcopal Church\, 5900 Seventh Ave\, Kenosha\, WI\, 53140\, United States
CATEGORIES:Non-NSAGO events
END:VEVENT
END:VCALENDAR