BEGIN:VCALENDAR
VERSION:2.0
PRODID:-//North Shore Chapter of the American Guild of Organists - ECPv6.15.20//NONSGML v1.0//EN
CALSCALE:GREGORIAN
METHOD:PUBLISH
X-ORIGINAL-URL:https://northshoreago.org
X-WR-CALDESC:Events for North Shore Chapter of the American Guild of Organists
REFRESH-INTERVAL;VALUE=DURATION:PT1H
X-Robots-Tag:noindex
X-PUBLISHED-TTL:PT1H
BEGIN:VTIMEZONE
TZID:America/Chicago
BEGIN:DAYLIGHT
TZOFFSETFROM:-0600
TZOFFSETTO:-0500
TZNAME:CDT
DTSTART:20150308T080000
END:DAYLIGHT
BEGIN:STANDARD
TZOFFSETFROM:-0500
TZOFFSETTO:-0600
TZNAME:CST
DTSTART:20151101T070000
END:STANDARD
BEGIN:DAYLIGHT
TZOFFSETFROM:-0600
TZOFFSETTO:-0500
TZNAME:CDT
DTSTART:20160313T080000
END:DAYLIGHT
BEGIN:STANDARD
TZOFFSETFROM:-0500
TZOFFSETTO:-0600
TZNAME:CST
DTSTART:20161106T070000
END:STANDARD
BEGIN:DAYLIGHT
TZOFFSETFROM:-0600
TZOFFSETTO:-0500
TZNAME:CDT
DTSTART:20170312T080000
END:DAYLIGHT
BEGIN:STANDARD
TZOFFSETFROM:-0500
TZOFFSETTO:-0600
TZNAME:CST
DTSTART:20171105T070000
END:STANDARD
END:VTIMEZONE
BEGIN:VEVENT
DTSTART;TZID=America/Chicago:20161118T193000
DTEND;TZID=America/Chicago:20161118T213000
DTSTAMP:20260422T012424
CREATED:20160915T154525Z
LAST-MODIFIED:20160917T213717Z
UID:2791-1479497400-1479504600@northshoreago.org
SUMMARY:Stephen Tharp at Fourth Presbyterian Church
DESCRIPTION:Fourth Presbyterian Church\n126 E Chestnut St\nChicago\, IL 60611\nFriday\, November 18\, 7:30pm\nStephen Tharp\, organist \nA solo program to commemorate the one year anniversary of the new Quimby organ at Fourth Church. The concert will include music by Duruflé\, Wagner\, Howells\, organ works written for Mr. Tharp by George Baker and retired Fourth Church Organist and Choirmaster\, Morgan Simmons\, and Mr. Tharp’s own transcription of Stravinsky’s The Rite of Spring.
URL:https://northshoreago.org/event/stephen-tharp-at-fourth-presbyterian-church/
LOCATION:Fourth Presbyterian Church\, 126 E. Chestnut\, Chicago\, 60611\, United States
CATEGORIES:Non-NSAGO events
END:VEVENT
END:VCALENDAR