BEGIN:VCALENDAR
VERSION:2.0
PRODID:-//North Shore Chapter of the American Guild of Organists - ECPv6.15.20//NONSGML v1.0//EN
CALSCALE:GREGORIAN
METHOD:PUBLISH
X-WR-CALNAME:North Shore Chapter of the American Guild of Organists
X-ORIGINAL-URL:https://northshoreago.org
X-WR-CALDESC:Events for North Shore Chapter of the American Guild of Organists
REFRESH-INTERVAL;VALUE=DURATION:PT1H
X-Robots-Tag:noindex
X-PUBLISHED-TTL:PT1H
BEGIN:VTIMEZONE
TZID:America/Chicago
BEGIN:DAYLIGHT
TZOFFSETFROM:-0600
TZOFFSETTO:-0500
TZNAME:CDT
DTSTART:20150308T080000
END:DAYLIGHT
BEGIN:STANDARD
TZOFFSETFROM:-0500
TZOFFSETTO:-0600
TZNAME:CST
DTSTART:20151101T070000
END:STANDARD
BEGIN:DAYLIGHT
TZOFFSETFROM:-0600
TZOFFSETTO:-0500
TZNAME:CDT
DTSTART:20160313T080000
END:DAYLIGHT
BEGIN:STANDARD
TZOFFSETFROM:-0500
TZOFFSETTO:-0600
TZNAME:CST
DTSTART:20161106T070000
END:STANDARD
BEGIN:DAYLIGHT
TZOFFSETFROM:-0600
TZOFFSETTO:-0500
TZNAME:CDT
DTSTART:20170312T080000
END:DAYLIGHT
BEGIN:STANDARD
TZOFFSETFROM:-0500
TZOFFSETTO:-0600
TZNAME:CST
DTSTART:20171105T070000
END:STANDARD
END:VTIMEZONE
BEGIN:VEVENT
DTSTART;TZID=America/Chicago:20161128T133000
DTEND;TZID=America/Chicago:20161128T143000
DTSTAMP:20260421T234445
CREATED:20160718T153142Z
LAST-MODIFIED:20160718T153412Z
UID:2712-1480339800-1480343400@northshoreago.org
SUMMARY:ELLIOTT CHAPEL ORGAN RECITALS
DESCRIPTION:ELLIOTT CHAPEL\, PRESBYTERIAN HOMES\n3131 Simpson Street\nEvanston\, IL\, 60201\nMonday\, November 28\, 1:30pm\nKatie Minion\nBloomington\, IN
URL:https://northshoreago.org/event/elliott-chapel-organ-recitals-3/
LOCATION:IL
CATEGORIES:Non-NSAGO events
END:VEVENT
END:VCALENDAR