BEGIN:VCALENDAR
VERSION:2.0
PRODID:-//North Shore Chapter of the American Guild of Organists - ECPv6.15.20//NONSGML v1.0//EN
CALSCALE:GREGORIAN
METHOD:PUBLISH
X-ORIGINAL-URL:https://northshoreago.org
X-WR-CALDESC:Events for North Shore Chapter of the American Guild of Organists
REFRESH-INTERVAL;VALUE=DURATION:PT1H
X-Robots-Tag:noindex
X-PUBLISHED-TTL:PT1H
BEGIN:VTIMEZONE
TZID:America/Chicago
BEGIN:DAYLIGHT
TZOFFSETFROM:-0600
TZOFFSETTO:-0500
TZNAME:CDT
DTSTART:20160313T080000
END:DAYLIGHT
BEGIN:STANDARD
TZOFFSETFROM:-0500
TZOFFSETTO:-0600
TZNAME:CST
DTSTART:20161106T070000
END:STANDARD
BEGIN:DAYLIGHT
TZOFFSETFROM:-0600
TZOFFSETTO:-0500
TZNAME:CDT
DTSTART:20170312T080000
END:DAYLIGHT
BEGIN:STANDARD
TZOFFSETFROM:-0500
TZOFFSETTO:-0600
TZNAME:CST
DTSTART:20171105T070000
END:STANDARD
BEGIN:DAYLIGHT
TZOFFSETFROM:-0600
TZOFFSETTO:-0500
TZNAME:CDT
DTSTART:20180311T080000
END:DAYLIGHT
BEGIN:STANDARD
TZOFFSETFROM:-0500
TZOFFSETTO:-0600
TZNAME:CST
DTSTART:20181104T070000
END:STANDARD
END:VTIMEZONE
BEGIN:VEVENT
DTSTART;TZID=America/Chicago:20170120T193000
DTEND;TZID=America/Chicago:20170120T213000
DTSTAMP:20260421T222706
CREATED:20170110T214725Z
LAST-MODIFIED:20170112T174456Z
UID:2989-1484940600-1484947800@northshoreago.org
SUMMARY:Gaudete Brass quintet and Christine Kraemer\, organist
DESCRIPTION:St. Luke’s Episcopal Church\n939 Hinman Avenue\nEvanston\, IL 60202\nFriday\, January 20\, 2017\, 7:30 pm \nAn evening of brass and organ music with the Gaudete Brass quintet and Christine Kraemer\, organist\n\nHeroic music by Cesar Franck\, Jean Langlais\, and Marcel Dupre and new music by American composers Jessica Hunt (b. 1987) and Carlyle Sharpe (b. 1965)\, former Berlin Philharmonic principal horn Bernhard Krol\, and Petr Eben\, “the Czech Messiaen”\n\nTickets $25 general; $15 senior; students free\n\nFor more information contact Christine Kraemer:\nckraemer@stlukesevanston.org\nor go to: Opus327.org
URL:https://northshoreago.org/event/gaudete-brass-quintet-and-christine-kraemer-organist/
LOCATION:St. Luke’s Episcopal Church\, 939 Hinman Avenue\, Evanston\, IL\, 60202\, United States
CATEGORIES:Non-NSAGO events
END:VEVENT
END:VCALENDAR