BEGIN:VCALENDAR
VERSION:2.0
PRODID:-//North Shore Chapter of the American Guild of Organists - ECPv6.15.20//NONSGML v1.0//EN
CALSCALE:GREGORIAN
METHOD:PUBLISH
X-ORIGINAL-URL:https://northshoreago.org
X-WR-CALDESC:Events for North Shore Chapter of the American Guild of Organists
REFRESH-INTERVAL;VALUE=DURATION:PT1H
X-Robots-Tag:noindex
X-PUBLISHED-TTL:PT1H
BEGIN:VTIMEZONE
TZID:America/Chicago
BEGIN:DAYLIGHT
TZOFFSETFROM:-0600
TZOFFSETTO:-0500
TZNAME:CDT
DTSTART:20160313T080000
END:DAYLIGHT
BEGIN:STANDARD
TZOFFSETFROM:-0500
TZOFFSETTO:-0600
TZNAME:CST
DTSTART:20161106T070000
END:STANDARD
BEGIN:DAYLIGHT
TZOFFSETFROM:-0600
TZOFFSETTO:-0500
TZNAME:CDT
DTSTART:20170312T080000
END:DAYLIGHT
BEGIN:STANDARD
TZOFFSETFROM:-0500
TZOFFSETTO:-0600
TZNAME:CST
DTSTART:20171105T070000
END:STANDARD
BEGIN:DAYLIGHT
TZOFFSETFROM:-0600
TZOFFSETTO:-0500
TZNAME:CDT
DTSTART:20180311T080000
END:DAYLIGHT
BEGIN:STANDARD
TZOFFSETFROM:-0500
TZOFFSETTO:-0600
TZNAME:CST
DTSTART:20181104T070000
END:STANDARD
END:VTIMEZONE
BEGIN:VEVENT
DTSTART;TZID=America/Chicago:20170212T143000
DTEND;TZID=America/Chicago:20170212T163000
DTSTAMP:20260421T210525
CREATED:20170206T162805Z
LAST-MODIFIED:20170206T162805Z
UID:3035-1486909800-1486917000@northshoreago.org
SUMMARY:Jonathan Rudy in concert with Elgin Symphony
DESCRIPTION:Sunday\, February 12\, 2:30pm\nHemmens Cultural Center\nJonathan Rudy\, organ \nWith The Elgin Symphony Orchestra\, performing Saint Saëns’ Symphony No. 3\, Organ Symphony
URL:https://northshoreago.org/event/jonathan-rudy-in-concert-with-elgin-symphony-2/
LOCATION:Hemmens Cultural Center
CATEGORIES:Non-NSAGO events
END:VEVENT
BEGIN:VEVENT
DTSTART;TZID=America/Chicago:20170212T160000
DTEND;TZID=America/Chicago:20170212T173000
DTSTAMP:20260421T210525
CREATED:20160718T155527Z
LAST-MODIFIED:20160718T160740Z
UID:2718-1486915200-1486920600@northshoreago.org
SUMMARY:FIRST PRESBYTERIAN CHURCH OF ARLINGTON HEIGHTS CONCERT SERIES
DESCRIPTION:FIRST PRESBYTERIAN CHURCH OF ARLINGTON HEIGHTS\n302 N. Dunton\nArlington Heights\, IL 60004\nSunday\, February 12\, 4:00pm\n32nd Annual Organ Fest\nMichael Gagne\, Marianne Kim\, Jeffrey Neufeld\, Kirstin Synnestvedt and Christopher Urban provide a program of favorites from the 52 rank Schantz organ. \n 
URL:https://northshoreago.org/event/first-presbyterian-church-of-arlington-heights/
LOCATION:First Presbyterian Church of Arlington Heights\, 302 N. Dunton Ave.\, Arlington Heights\, IL\, 60004\, United States
CATEGORIES:Non-NSAGO events
END:VEVENT
END:VCALENDAR