BEGIN:VCALENDAR
VERSION:2.0
PRODID:-//North Shore Chapter of the American Guild of Organists - ECPv6.15.20//NONSGML v1.0//EN
CALSCALE:GREGORIAN
METHOD:PUBLISH
X-ORIGINAL-URL:https://northshoreago.org
X-WR-CALDESC:Events for North Shore Chapter of the American Guild of Organists
REFRESH-INTERVAL;VALUE=DURATION:PT1H
X-Robots-Tag:noindex
X-PUBLISHED-TTL:PT1H
BEGIN:VTIMEZONE
TZID:America/Chicago
BEGIN:DAYLIGHT
TZOFFSETFROM:-0600
TZOFFSETTO:-0500
TZNAME:CDT
DTSTART:20160313T080000
END:DAYLIGHT
BEGIN:STANDARD
TZOFFSETFROM:-0500
TZOFFSETTO:-0600
TZNAME:CST
DTSTART:20161106T070000
END:STANDARD
BEGIN:DAYLIGHT
TZOFFSETFROM:-0600
TZOFFSETTO:-0500
TZNAME:CDT
DTSTART:20170312T080000
END:DAYLIGHT
BEGIN:STANDARD
TZOFFSETFROM:-0500
TZOFFSETTO:-0600
TZNAME:CST
DTSTART:20171105T070000
END:STANDARD
BEGIN:DAYLIGHT
TZOFFSETFROM:-0600
TZOFFSETTO:-0500
TZNAME:CDT
DTSTART:20180311T080000
END:DAYLIGHT
BEGIN:STANDARD
TZOFFSETFROM:-0500
TZOFFSETTO:-0600
TZNAME:CST
DTSTART:20181104T070000
END:STANDARD
END:VTIMEZONE
BEGIN:VEVENT
DTSTART;TZID=America/Chicago:20170305T160000
DTEND;TZID=America/Chicago:20170305T173000
DTSTAMP:20260421T134350
CREATED:20160718T155808Z
LAST-MODIFIED:20160718T155808Z
UID:2719-1488729600-1488735000@northshoreago.org
SUMMARY:FIRST PREBYTERIAN CHURCH OF ARLINGTON HEIGHTS CONCERT SERIES
DESCRIPTION:FIRST PRESBYTERIAN CHURCH OF ARLINGTON HEIGHTS\n302 N. Dunton\nArlington Heights\, IL 60004\nSunday\, March 5\, 4:00pm\nNew Chicago Brass\nA fresh take on the classic style\, New Chicago Brass (NCB) represents the cutting-edge generation of high-quality brass performance in Chicago.
URL:https://northshoreago.org/event/first-prebyterian-church-of-arlington-heights-concert-series/
LOCATION:First Presbyterian Church of Arlington Heights\, 302 N. Dunton Ave.\, Arlington Heights\, IL\, 60004\, United States
CATEGORIES:Non-NSAGO events
END:VEVENT
END:VCALENDAR