BEGIN:VCALENDAR
VERSION:2.0
PRODID:-//North Shore Chapter of the American Guild of Organists - ECPv6.15.20//NONSGML v1.0//EN
CALSCALE:GREGORIAN
METHOD:PUBLISH
X-WR-CALNAME:North Shore Chapter of the American Guild of Organists
X-ORIGINAL-URL:https://northshoreago.org
X-WR-CALDESC:Events for North Shore Chapter of the American Guild of Organists
REFRESH-INTERVAL;VALUE=DURATION:PT1H
X-Robots-Tag:noindex
X-PUBLISHED-TTL:PT1H
BEGIN:VTIMEZONE
TZID:America/Chicago
BEGIN:DAYLIGHT
TZOFFSETFROM:-0600
TZOFFSETTO:-0500
TZNAME:CDT
DTSTART:20160313T080000
END:DAYLIGHT
BEGIN:STANDARD
TZOFFSETFROM:-0500
TZOFFSETTO:-0600
TZNAME:CST
DTSTART:20161106T070000
END:STANDARD
BEGIN:DAYLIGHT
TZOFFSETFROM:-0600
TZOFFSETTO:-0500
TZNAME:CDT
DTSTART:20170312T080000
END:DAYLIGHT
BEGIN:STANDARD
TZOFFSETFROM:-0500
TZOFFSETTO:-0600
TZNAME:CST
DTSTART:20171105T070000
END:STANDARD
BEGIN:DAYLIGHT
TZOFFSETFROM:-0600
TZOFFSETTO:-0500
TZNAME:CDT
DTSTART:20180311T080000
END:DAYLIGHT
BEGIN:STANDARD
TZOFFSETFROM:-0500
TZOFFSETTO:-0600
TZNAME:CST
DTSTART:20181104T070000
END:STANDARD
END:VTIMEZONE
BEGIN:VEVENT
DTSTART;TZID=America/Chicago:20170507T143000
DTEND;TZID=America/Chicago:20170507T163000
DTSTAMP:20260421T062810
CREATED:20170215T193544Z
LAST-MODIFIED:20170523T171456Z
UID:3045-1494167400-1494174600@northshoreago.org
SUMMARY:Bach Week Festival: Festival Finale Concert
DESCRIPTION:Sunday\, May 7\, 2:30 PM\nPre-concert lecture with Carl Grapentine  1:30 PM\nNorth Park University\, Anderson Chapel\n5149 Spaulding Avenue (Foster & Spaulding)\, Chicago\nFree parking at Foster & Kedzie  \nConcerto for Flute\, Violin and Harpsichord\, BWV 1044\nMotet: Jesu\, meine Freude BWV 227\nOrchestral Suite No. 4 in D\, BWV 1069 \nNorth Park University Chamber Singers\nMembers of Bella Voce\nBach Week Festival Chorus and Orchestra
URL:https://northshoreago.org/event/bach-week-festival-festival-finale-concert/
LOCATION:North Park University Anderson Chapel\, 5149 Spaulding Ave\, Chicago\, IL\, United States
CATEGORIES:Non-NSAGO events
ATTACH;FMTTYPE=image/jpeg:https://northshoreago.org/wp-content/uploads/2017/02/bach-etching.jpg
END:VEVENT
BEGIN:VEVENT
DTSTART;TZID=America/Chicago:20170507T160000
DTEND;TZID=America/Chicago:20170507T180000
DTSTAMP:20260421T062810
CREATED:20170302T174630Z
LAST-MODIFIED:20170302T175332Z
UID:3113-1494172800-1494180000@northshoreago.org
SUMMARY:Rutter Requiem in Arlington Heights
DESCRIPTION:Southminster Presbyterian Church\n916 Central Road\, Arlington Heights\nMay 7\, 4 p.m.  \nThe choirs of First Presbyterian Church and Southminster Presbyterian Church will perform REQUIEM by John Rutter with full orchestra.  Orchestra also playing Grieg’s HOLBERG SUITE.  Directors Michael Nelson and Leon Nelson.  Free-will offering.
URL:https://northshoreago.org/event/rutter-requiem-in-deerfield/
LOCATION:Southminster Presbyterian Church\, 916 Central Road\, Arlington Heights\, IL\, United States
CATEGORIES:Non-NSAGO events
END:VEVENT
END:VCALENDAR