BEGIN:VCALENDAR
VERSION:2.0
PRODID:-//North Shore Chapter of the American Guild of Organists - ECPv6.15.20//NONSGML v1.0//EN
CALSCALE:GREGORIAN
METHOD:PUBLISH
X-WR-CALNAME:North Shore Chapter of the American Guild of Organists
X-ORIGINAL-URL:https://northshoreago.org
X-WR-CALDESC:Events for North Shore Chapter of the American Guild of Organists
REFRESH-INTERVAL;VALUE=DURATION:PT1H
X-Robots-Tag:noindex
X-PUBLISHED-TTL:PT1H
BEGIN:VTIMEZONE
TZID:America/Chicago
BEGIN:DAYLIGHT
TZOFFSETFROM:-0600
TZOFFSETTO:-0500
TZNAME:CDT
DTSTART:20210314T080000
END:DAYLIGHT
BEGIN:STANDARD
TZOFFSETFROM:-0500
TZOFFSETTO:-0600
TZNAME:CST
DTSTART:20211107T070000
END:STANDARD
BEGIN:DAYLIGHT
TZOFFSETFROM:-0600
TZOFFSETTO:-0500
TZNAME:CDT
DTSTART:20220313T080000
END:DAYLIGHT
BEGIN:STANDARD
TZOFFSETFROM:-0500
TZOFFSETTO:-0600
TZNAME:CST
DTSTART:20221106T070000
END:STANDARD
BEGIN:DAYLIGHT
TZOFFSETFROM:-0600
TZOFFSETTO:-0500
TZNAME:CDT
DTSTART:20230312T080000
END:DAYLIGHT
BEGIN:STANDARD
TZOFFSETFROM:-0500
TZOFFSETTO:-0600
TZNAME:CST
DTSTART:20231105T070000
END:STANDARD
END:VTIMEZONE
BEGIN:VEVENT
DTSTART;TZID=America/Chicago:20220424T150000
DTEND;TZID=America/Chicago:20220424T150000
DTSTAMP:20260419T124416
CREATED:20220325T133822Z
LAST-MODIFIED:20220325T134511Z
UID:7721-1650812400-1650812400@northshoreago.org
SUMMARY:Bach Week Festival
DESCRIPTION:Chamber Music Concert:\n“Bach and Before” \nThis period-instrument chamber concert opens the Chicago area’s 49th annual Bach Week Festival by spotlighting composers who influenced J. S. Bach. \nArtists:\nEmi Tanabe\, baroque violin\nWendy Benner\, baroque violin\nAnna Steinhoff\, viola da gamba\nJerry Fuller\, violone\nJason J. Moy\, harpsichord\nRichard Webster\, organ and Music Director \nProgram:\nJohann Sebastian Bach: An Wasserflüssen Babylon\, BWV 653\nDieterich Buxtehude: Trio Sonata in C Major\, BuxWV 266\nNicolaus Adam Strungk: Contrapunct sopra la Bassigaylos d’Altr/ Wie schön leuchtet der Morgenstern\nGeorg Böhm: Variations on Wer nur den lieben Gott lässt walten\nJohann Adam Reincken: Sonata No. 1 in A minor from Hortus Musicus\nDieterich Buxtehude: Trio Sonata in B-flat Major\, BuxWV 255\nJohann Pachelbel: Partie IV\, from Musicalische Ergötzung \nAdmission: Free and open to the public\, but reservations are required.
URL:https://northshoreago.org/event/bach-week-festival/
LOCATION:All Saints Episcopal Church\, 4550 N. Hermitage Avenue\, Chicago\, IL\, 60640\, United States
CATEGORIES:Non-NSAGO events
ORGANIZER;CN="Bach Week Festival":MAILTO:info@bachweek.org
END:VEVENT
END:VCALENDAR