BEGIN:VCALENDAR
VERSION:2.0
PRODID:-//North Shore Chapter of the American Guild of Organists - ECPv6.15.20//NONSGML v1.0//EN
CALSCALE:GREGORIAN
METHOD:PUBLISH
X-WR-CALNAME:North Shore Chapter of the American Guild of Organists
X-ORIGINAL-URL:https://northshoreago.org
X-WR-CALDESC:Events for North Shore Chapter of the American Guild of Organists
REFRESH-INTERVAL;VALUE=DURATION:PT1H
X-Robots-Tag:noindex
X-PUBLISHED-TTL:PT1H
BEGIN:VTIMEZONE
TZID:America/Chicago
BEGIN:DAYLIGHT
TZOFFSETFROM:-0600
TZOFFSETTO:-0500
TZNAME:CDT
DTSTART:20210314T080000
END:DAYLIGHT
BEGIN:STANDARD
TZOFFSETFROM:-0500
TZOFFSETTO:-0600
TZNAME:CST
DTSTART:20211107T070000
END:STANDARD
BEGIN:DAYLIGHT
TZOFFSETFROM:-0600
TZOFFSETTO:-0500
TZNAME:CDT
DTSTART:20220313T080000
END:DAYLIGHT
BEGIN:STANDARD
TZOFFSETFROM:-0500
TZOFFSETTO:-0600
TZNAME:CST
DTSTART:20221106T070000
END:STANDARD
BEGIN:DAYLIGHT
TZOFFSETFROM:-0600
TZOFFSETTO:-0500
TZNAME:CDT
DTSTART:20230312T080000
END:DAYLIGHT
BEGIN:STANDARD
TZOFFSETFROM:-0500
TZOFFSETTO:-0600
TZNAME:CST
DTSTART:20231105T070000
END:STANDARD
END:VTIMEZONE
BEGIN:VEVENT
DTSTART;TZID=America/Chicago:20220429T193000
DTEND;TZID=America/Chicago:20220429T193000
DTSTAMP:20260419T124418
CREATED:20220325T135542Z
LAST-MODIFIED:20220325T135542Z
UID:7731-1651260600-1651260600@northshoreago.org
SUMMARY:Bach Week Festival
DESCRIPTION:Vocal\, Choir\, and Orchestra Concert\n“Bach: Sacred and Secular Masterworks” \nArtists:\nJosefien Stoppelenburg\, soprano\nLindsay Metzger\, mezzo-soprano\nSusan Platts\, mezzo soprano\nTyler Lee\, tenor\nDavid Govertsen\, bass\nAlyce Johnson\, flute\nJason Moy\, organ\nBach Week Festival Orchestra and Chorus\,\nRichard Webster\, music director \nProgram:\nCarl Philipp Emanuel Bach: March for 3 Trumpets and Timpani\nJohann Sebastian Bach: “Mer hahn en neue Oberkeet\,” BWV 212\, “Peasant Cantata”\nJ.S. Bach: “Magnificat\,” BWV 243 \nAdmission:  VIP seating $50\, adults $35\, seniors $25\, students w/ID $15
URL:https://northshoreago.org/event/bach-week-festival-2/
LOCATION:Anderson Chapel\,  North Park University\, 5159 N. Spaulding Ave\, Chicago\, IL\, 60625\, United States
CATEGORIES:Non-NSAGO events
ORGANIZER;CN="Bach Week Festival":MAILTO:info@bachweek.org
END:VEVENT
END:VCALENDAR