BEGIN:VCALENDAR
VERSION:2.0
PRODID:-//North Shore Chapter of the American Guild of Organists - ECPv6.15.20//NONSGML v1.0//EN
CALSCALE:GREGORIAN
METHOD:PUBLISH
X-WR-CALNAME:North Shore Chapter of the American Guild of Organists
X-ORIGINAL-URL:https://northshoreago.org
X-WR-CALDESC:Events for North Shore Chapter of the American Guild of Organists
REFRESH-INTERVAL;VALUE=DURATION:PT1H
X-Robots-Tag:noindex
X-PUBLISHED-TTL:PT1H
BEGIN:VTIMEZONE
TZID:America/Chicago
BEGIN:DAYLIGHT
TZOFFSETFROM:-0600
TZOFFSETTO:-0500
TZNAME:CDT
DTSTART:20210314T080000
END:DAYLIGHT
BEGIN:STANDARD
TZOFFSETFROM:-0500
TZOFFSETTO:-0600
TZNAME:CST
DTSTART:20211107T070000
END:STANDARD
BEGIN:DAYLIGHT
TZOFFSETFROM:-0600
TZOFFSETTO:-0500
TZNAME:CDT
DTSTART:20220313T080000
END:DAYLIGHT
BEGIN:STANDARD
TZOFFSETFROM:-0500
TZOFFSETTO:-0600
TZNAME:CST
DTSTART:20221106T070000
END:STANDARD
BEGIN:DAYLIGHT
TZOFFSETFROM:-0600
TZOFFSETTO:-0500
TZNAME:CDT
DTSTART:20230312T080000
END:DAYLIGHT
BEGIN:STANDARD
TZOFFSETFROM:-0500
TZOFFSETTO:-0600
TZNAME:CST
DTSTART:20231105T070000
END:STANDARD
END:VTIMEZONE
BEGIN:VEVENT
DTSTART;TZID=America/Chicago:20220522T163000
DTEND;TZID=America/Chicago:20220522T193000
DTSTAMP:20260419T141914
CREATED:20210702T183619Z
LAST-MODIFIED:20220504T153713Z
UID:7093-1653237000-1653247800@northshoreago.org
SUMMARY:Progressive Organ Recital and Annual Banquet
DESCRIPTION:Sunday\, May 22\, 2022\, 4:30pm\nJoin us for three short organ concerts hosted in succession by three Lake Forest area churches: Church of the Covenants\, First Presbyterian Church\, and The Church of the Holy Spirit. Celebrate afterward with a delicious dinner together. \nRSVP for Members Banquet \nRecital One – 4:30 p.m. Jay Peterson\, organist The Church of the Holy Spirit 400 E Westminster Avenue Lake Forest\, IL 60045 \n\n\n\nRecital Two – 5:10 p.m. Jill Hunt & Barry Wenger\, organists First Presbyterian Church 700 N Sheridan Road Lake Forest\, IL 60045 \n\n\n\nRecital Three – 5:50 p.m. David Hiett\, organist Church of the Covenants 350 E Deerpath Road Lake Forest\, IL 60045 For more information\, contact Dave Hiett (bdhiett@gmail.com).
URL:https://northshoreago.org/event/progressive-organ-recital-and-annual-banquet/
LOCATION:The Church of the Holy Spirit\, 400 E Westminster Ave\, Lake Forest\, IL\, 60045\, United States
CATEGORIES:2021-22 Season Program
ATTACH;FMTTYPE=image/png:https://northshoreago.org/wp-content/uploads/2022/04/NSAGO-Progressive-Recital-May-2022-1.png
END:VEVENT
END:VCALENDAR