BEGIN:VCALENDAR
VERSION:2.0
PRODID:-//North Shore Chapter of the American Guild of Organists - ECPv6.15.20//NONSGML v1.0//EN
CALSCALE:GREGORIAN
METHOD:PUBLISH
X-WR-CALNAME:North Shore Chapter of the American Guild of Organists
X-ORIGINAL-URL:https://northshoreago.org
X-WR-CALDESC:Events for North Shore Chapter of the American Guild of Organists
REFRESH-INTERVAL;VALUE=DURATION:PT1H
X-Robots-Tag:noindex
X-PUBLISHED-TTL:PT1H
BEGIN:VTIMEZONE
TZID:America/Chicago
BEGIN:DAYLIGHT
TZOFFSETFROM:-0600
TZOFFSETTO:-0500
TZNAME:CDT
DTSTART:20190310T080000
END:DAYLIGHT
BEGIN:STANDARD
TZOFFSETFROM:-0500
TZOFFSETTO:-0600
TZNAME:CST
DTSTART:20191103T070000
END:STANDARD
BEGIN:DAYLIGHT
TZOFFSETFROM:-0600
TZOFFSETTO:-0500
TZNAME:CDT
DTSTART:20200308T080000
END:DAYLIGHT
BEGIN:STANDARD
TZOFFSETFROM:-0500
TZOFFSETTO:-0600
TZNAME:CST
DTSTART:20201101T070000
END:STANDARD
BEGIN:DAYLIGHT
TZOFFSETFROM:-0600
TZOFFSETTO:-0500
TZNAME:CDT
DTSTART:20210314T080000
END:DAYLIGHT
BEGIN:STANDARD
TZOFFSETFROM:-0500
TZOFFSETTO:-0600
TZNAME:CST
DTSTART:20211107T070000
END:STANDARD
BEGIN:DAYLIGHT
TZOFFSETFROM:-0600
TZOFFSETTO:-0500
TZNAME:CDT
DTSTART:20220313T080000
END:DAYLIGHT
BEGIN:STANDARD
TZOFFSETFROM:-0500
TZOFFSETTO:-0600
TZNAME:CST
DTSTART:20221106T070000
END:STANDARD
END:VTIMEZONE
BEGIN:VEVENT
DTSTART;TZID=America/Chicago:20210612T170000
DTEND;TZID=America/Chicago:20210612T210000
DTSTAMP:20260421T022728
CREATED:20200827T131900Z
LAST-MODIFIED:20200827T131900Z
UID:6291-1623517200-1623531600@northshoreago.org
SUMMARY:Annual Chapter Picnic
DESCRIPTION:Saturday\, June 12\, 2021\, 5:00pm\nDean Judy Kohl’s home\n630 S Green Bay Road\, Lake Forest\, IL 60045 \nJoin us at the home of dean Judy Kohl for a final party closing our season. For more information\, contact Judy Kohl (judygkohl@gmail.com)
URL:https://northshoreago.org/event/annual-chapter-picnic/
LOCATION:Judy Kohl’s Home\, 630 S. Green Bay Road\, Lake Forest\, IL\, 60045\, United States
CATEGORIES:2020-21 Season Program
ATTACH;FMTTYPE=image/png:https://northshoreago.org/wp-content/uploads/2020/08/Picnic.png
END:VEVENT
BEGIN:VEVENT
DTSTART;TZID=America/Chicago:20210516T160000
DTEND;TZID=America/Chicago:20210516T190000
DTSTAMP:20260421T022728
CREATED:20200827T131559Z
LAST-MODIFIED:20210427T214058Z
UID:6289-1621180800-1621191600@northshoreago.org
SUMMARY:Progressive Organ Recital & Banquet
DESCRIPTION:Sunday\, May 16\, 2021\, 4:00pm\nArlington Heights area churches Virtually \n Join us virtually for a progressive organ recital on Zoom featuring three Arlington Heights area churches: St. Peter Lutheran\, First Presbyterian\, and Southminster Presbyterian.\nAfter the concert break-out rooms will be offered so we can socialize and get caught up with each other.\nSince we cannot dine together you are encouraged to donate to the Greater Chicago Food Depository instead. You can donate online at chicagosfoodbank.org; by phone\, 773-247-3663; or by check\, made out to Greater Chicago Food Depository\, and sent to 4100 W. Ann Laurie Place\, Chicago\, IL 60632. Why not consider donating the cost of a restaurant dinner? Our donations will be tallied by the GCFD\, so we can be inspired by the generosity of our fellow Members. For more information\, contact Sharon Peterson (speterson1@northpark.edu)\, Paul Cochran (pcochran48@comcast.net)\, or Lee Nelson (leeathomevh@aol.com).
URL:https://northshoreago.org/event/progressive-organ-recital-banquet/
CATEGORIES:2020-21 Season Program
ATTACH;FMTTYPE=image/png:https://northshoreago.org/wp-content/uploads/2020/08/Southminster2.png
END:VEVENT
BEGIN:VEVENT
DTSTART;TZID=America/Chicago:20210226T193000
DTEND;TZID=America/Chicago:20210226T210000
DTSTAMP:20260421T022728
CREATED:20210201T004339Z
LAST-MODIFIED:20210223T142935Z
UID:6656-1614367800-1614373200@northshoreago.org
SUMMARY:Lenten Themed Organ Recital on Zoom
DESCRIPTION:Friday\, February 26\, 2021\, 7:30pm\nBecause of ongoing pandemic concerns\, our program tonight has been changed to a Lenten-themed organ recital. Please join us on Zoom for a lovely evening of music played by our chapter members; Linda Cerabona\, Paul Cochran\, James Janssen\, Brian Schoettler\, Charles Sundquist\, and Isza Wu. The concert will be followed by an opportunity to greet colleagues and make new friends. \nOur previously scheduled Messiaen recital by Colin Andrews has been postponed to February 2022\nFor info\, contact Richard Clemmitt (rclemmitt@christchurchwinnetka.org). \nJoin Zoom Meeting: \nClick here to be directed to Zoom \nMeeting ID: 885 2574 4580\nPasscode: 455063\nOne tap mobile\n+13126266799\,\,88525744580#\,\,\,\,*455063# US (Chicago)\n+13017158592\,\,88525744580#\,\,\,\,*455063# US (Washington D.C) \nDial by your location\n+1 312 626 6799 US (Chicago)\n+1 301 715 8592 US (Washington D.C)\n+1 929 205 6099 US (New York)\n+1 346 248 7799 US (Houston)\n+1 669 900 6833 US (San Jose)\n+1 253 215 8782 US (Tacoma)\nMeeting ID: 885 2574 4580\nPasscode: 455063\nFind your local number: https://us02web.zoom.us/u/kbaRG7yNBV
URL:https://northshoreago.org/event/lenten-themed-organ-recital-on-zoom/
CATEGORIES:2020-21 Season Program
ATTACH;FMTTYPE=image/jpeg:https://northshoreago.org/wp-content/uploads/2021/01/Window.jpg
END:VEVENT
BEGIN:VEVENT
DTSTART;TZID=America/Chicago:20210103T183000
DTEND;TZID=America/Chicago:20210103T213000
DTSTAMP:20260421T022728
CREATED:20200827T131409Z
LAST-MODIFIED:20210201T004015Z
UID:6285-1609698600-1609709400@northshoreago.org
SUMMARY:Seventh Annual Epiphany Party
DESCRIPTION:Sunday\, January 3\, 2021\, 6:30pm\nMore information to come as the date approaches \nJoin us for our seventh annual Epiphany party! We hope to meet at Andrea Handley’s home\, as usual\, for an evening including appetizers\, drinks\, dinner\, and a program of Christmas and holiday favorites. If necessary\, we will provide this event in an engaging alternative format. For more information\, contact Rich Spantikow (rjspantikow@gmail.com) or Andrea Handley (andrea.handley@gmail.com).
URL:https://northshoreago.org/event/seventh-annual-epiphany-party/
CATEGORIES:2020-21 Season Program
ATTACH;FMTTYPE=image/jpeg:https://northshoreago.org/wp-content/uploads/2020/08/external-content.duckduckgo.jpg
END:VEVENT
BEGIN:VEVENT
DTSTART;TZID=America/Chicago:20201107T110000
DTEND;TZID=America/Chicago:20201107T160000
DTSTAMP:20260421T022728
CREATED:20200827T131041Z
LAST-MODIFIED:20200827T131041Z
UID:6282-1604746800-1604764800@northshoreago.org
SUMMARY:Organ Crawl with the Organ Historical Society
DESCRIPTION:Saturday\, November 7\, 2020\, 11:00am-4:00pm\nSkokie and Edgebrook area churches \nWe partner with the Organ Historical Society for an in-person\, socially distanced visit to Skokie and Edgebrook area churches with interesting pipe organs. These churches will include St. Paul’s Lutheran\, Edgebrook Community Church\, Queen of All Saints Basilica and more. For more information\, contact Derek Nickels (derek.nickels63@gmail.com) or Susan Klotzbach (susanklotzbach@gmail.com).
URL:https://northshoreago.org/event/organ-crawl-with-the-organ-historical-society/
CATEGORIES:2020-21 Season Program
ATTACH;FMTTYPE=image/png:https://northshoreago.org/wp-content/uploads/2020/08/OHS2.png
END:VEVENT
BEGIN:VEVENT
DTSTART;TZID=America/Chicago:20200915T193000
DTEND;TZID=America/Chicago:20200915T210000
DTSTAMP:20260421T022728
CREATED:20200827T130846Z
LAST-MODIFIED:20200827T130911Z
UID:6273-1600198200-1600203600@northshoreago.org
SUMMARY:Virtual Organ Recital and Welcome
DESCRIPTION:Tuesday\, September 15\, 2020\, 7:30pm \nZoom – Click here to attend on Zoom \nJoin us on Zoom for a half-hour members recital\, an opportunity to make some new friends\, and a welcome to our incoming board members and officers. For more information\, contact Judy Kohl (judygkohl@gmail.com) or Linda Cerabona (lcerabona@usml.edu).
URL:https://northshoreago.org/event/virtual-organ-recital-and-welcome/
CATEGORIES:2020-21 Season Program,NSAGO events
ATTACH;FMTTYPE=image/jpeg:https://northshoreago.org/wp-content/uploads/2020/08/7048-980x654-1.jpg
END:VEVENT
END:VCALENDAR