BEGIN:VCALENDAR
VERSION:2.0
PRODID:-//North Shore Chapter of the American Guild of Organists - ECPv6.15.20//NONSGML v1.0//EN
CALSCALE:GREGORIAN
METHOD:PUBLISH
X-ORIGINAL-URL:https://northshoreago.org
X-WR-CALDESC:Events for North Shore Chapter of the American Guild of Organists
REFRESH-INTERVAL;VALUE=DURATION:PT1H
X-Robots-Tag:noindex
X-PUBLISHED-TTL:PT1H
BEGIN:VTIMEZONE
TZID:America/Chicago
BEGIN:DAYLIGHT
TZOFFSETFROM:-0600
TZOFFSETTO:-0500
TZNAME:CDT
DTSTART:20220313T080000
END:DAYLIGHT
BEGIN:STANDARD
TZOFFSETFROM:-0500
TZOFFSETTO:-0600
TZNAME:CST
DTSTART:20221106T070000
END:STANDARD
BEGIN:DAYLIGHT
TZOFFSETFROM:-0600
TZOFFSETTO:-0500
TZNAME:CDT
DTSTART:20230312T080000
END:DAYLIGHT
BEGIN:STANDARD
TZOFFSETFROM:-0500
TZOFFSETTO:-0600
TZNAME:CST
DTSTART:20231105T070000
END:STANDARD
BEGIN:DAYLIGHT
TZOFFSETFROM:-0600
TZOFFSETTO:-0500
TZNAME:CDT
DTSTART:20240310T080000
END:DAYLIGHT
BEGIN:STANDARD
TZOFFSETFROM:-0500
TZOFFSETTO:-0600
TZNAME:CST
DTSTART:20241103T070000
END:STANDARD
BEGIN:DAYLIGHT
TZOFFSETFROM:-0600
TZOFFSETTO:-0500
TZNAME:CDT
DTSTART:20250309T080000
END:DAYLIGHT
BEGIN:STANDARD
TZOFFSETFROM:-0500
TZOFFSETTO:-0600
TZNAME:CST
DTSTART:20251102T070000
END:STANDARD
END:VTIMEZONE
BEGIN:VEVENT
DTSTART;TZID=America/Chicago:20240519T170000
DTEND;TZID=America/Chicago:20240519T200000
DTSTAMP:20260421T222325
CREATED:20240501T160107Z
LAST-MODIFIED:20240502T094322Z
UID:10791-1716138000-1716148800@northshoreago.org
SUMMARY:Annual End of Season Banquet 2024
DESCRIPTION:Come and join your NSAGO colleagues for an evening of cocktails/social hour and an elegant buffet dinner with something for everyone in attendance!\nDate: May 19\, 2024\nCocktails at 5:00pmDinner at 6:00pm\nCanterbury Room – Second Floor – View of Lake Michigan\nMichigan Shores Club911 Michigan Avenue\, Wilmette\, Illinois\nParking – complimentary valet parking \nCost: $40.00 per person\nAll spouses/partners/significant others/friends are welcome! \n\n			\n			\n				\n				\n				\n				\n			\n				\n				\n				\n				\n				\n				\n				\n				\n				\n				\n				MENU \nAppetizers – crab cakes/vegetable spring rolls/bacon wrapped shrimp \nSalad – mixed greens\, walnuts\, apple\, assorted berries\, crispy brussel sprouts\, chickpeas\, farmers goat cheese\, balsamic dressing \nEntrée – chicken roulade\, breast of chicken\, garlic basil mousse\, smashed roasted redpotato Brunoises\, carrots\, beans\, red pepper\, rutabaga and romesco sauceDessert – lemon cream crumb bars\, seven layer bars\, berry oat bites \nCash Bar on SiteMixed drinks $11.00 – Wine $10.00 – Beer $8.00No charge for soft drinks\, tea and coffee \n\n			\n			\n				\n				\n				\n				\n			\n				\n				\n				\n				\n				\n				\n				\n				\n				\n				\n				RSVP & PAY AT DOOR\nRSVP by Noon Friday May 17 \n\n	Notice: JavaScript is required for this content.
URL:https://northshoreago.org/event/end-of-season-banquet-2024/
LOCATION:Michigan Shores Club\, 911 Michigan Avenue\, Wilmette\, IL\, 60091\, United States
CATEGORIES:2023-24 Season Program
ATTACH;FMTTYPE=image/png:https://northshoreago.org/wp-content/uploads/2024/05/NSAGO-Members-Banquet.png
END:VEVENT
BEGIN:VEVENT
DTSTART;TZID=America/Chicago:20240204T190000
DTEND;TZID=America/Chicago:20240204T200000
DTSTAMP:20260421T222325
CREATED:20240205T161818Z
LAST-MODIFIED:20240205T161818Z
UID:9948-1707073200-1707076800@northshoreago.org
SUMMARY:Holy Name Cathedral Concert Series Organ Concert
DESCRIPTION:Featuring Gail Archer\, concert organist playing on the Flentrop organ a program of Tower\, Howe\, Price\, Boulanger\, Larsen and Demessieux.
URL:https://northshoreago.org/event/holy-name-cathedral-concert-series-organ-concert-2/
LOCATION:Holy Name Cathedral\, 730 N. Wabash\, Chicago\, IL\, 60611\, United States
CATEGORIES:2023-24 Season Program
END:VEVENT
BEGIN:VEVENT
DTSTART;TZID=America/Chicago:20240204T190000
DTEND;TZID=America/Chicago:20240204T200000
DTSTAMP:20260421T222325
CREATED:20231115T030727Z
LAST-MODIFIED:20231229T161827Z
UID:9846-1707073200-1707076800@northshoreago.org
SUMMARY:Holy Name Cathedral Concert Series Organ Concert
DESCRIPTION:Organ concert featuring Gail Archer\, Concert Organist on the Holy Name Cathedral Flentrop Organ
URL:https://northshoreago.org/event/holy-name-cathedral-concert-series-organ-concert/
LOCATION:Holy Name Cathedral\, 730 N. Wabash\, Chicago\, IL\, 60611\, United States
CATEGORIES:2023-24 Season Program
ATTACH;FMTTYPE=image/jpeg:https://northshoreago.org/wp-content/uploads/2023/11/GAILARCHER_byStephanieBerger_2-2908042291.jpg
END:VEVENT
BEGIN:VEVENT
DTSTART;TZID=America/Chicago:20230924T150000
DTEND;TZID=America/Chicago:20230924T170000
DTSTAMP:20260421T222325
CREATED:20230831T170818Z
LAST-MODIFIED:20230831T170818Z
UID:9534-1695567600-1695574800@northshoreago.org
SUMMARY:Phillip Kloeckner Workshop: Techniques for AGO Certification
DESCRIPTION:Save the date for our September event! \nDate: Sunday\, September 24\nTime: 3:00pm\nLocation: St. Luke’s Lutheran Church\n205 N. Prospect Ave.\nPark Ridge\, IL 60068 \nDetails: Phillip Kloeckner of the Chicago International Organ Academy will present a workshop on Techniques for AGO certification. The focus will be split between hymn introduction improvisation and hymn transposition. \n\nFollowing the workshop we will have a reception in the church’s atrium to welcome new\nmembers to our chapter. Hope to see you all there as we kick off our 2023/2024 season! \n\nLearn more about Phillip: http://www.phillipkloeckner.net/
URL:https://northshoreago.org/event/phillip-kloeckner-workshop-techniques-for-ago-certification/
LOCATION:St. Luke’s Lutheran Church\, 205 N. Prospect Avenue\, Park Ridge\, IL\, 60068\, United States
CATEGORIES:2023-24 Season Program
ATTACH;FMTTYPE=image/png:https://northshoreago.org/wp-content/uploads/2023/08/PhilipKloeckner.png
END:VEVENT
END:VCALENDAR