BEGIN:VCALENDAR
VERSION:2.0
PRODID:-//North Shore Chapter of the American Guild of Organists - ECPv6.15.20//NONSGML v1.0//EN
CALSCALE:GREGORIAN
METHOD:PUBLISH
X-ORIGINAL-URL:https://northshoreago.org
X-WR-CALDESC:Events for North Shore Chapter of the American Guild of Organists
REFRESH-INTERVAL;VALUE=DURATION:PT1H
X-Robots-Tag:noindex
X-PUBLISHED-TTL:PT1H
BEGIN:VTIMEZONE
TZID:America/Chicago
BEGIN:DAYLIGHT
TZOFFSETFROM:-0600
TZOFFSETTO:-0500
TZNAME:CDT
DTSTART:20230312T080000
END:DAYLIGHT
BEGIN:STANDARD
TZOFFSETFROM:-0500
TZOFFSETTO:-0600
TZNAME:CST
DTSTART:20231105T070000
END:STANDARD
BEGIN:DAYLIGHT
TZOFFSETFROM:-0600
TZOFFSETTO:-0500
TZNAME:CDT
DTSTART:20240310T080000
END:DAYLIGHT
BEGIN:STANDARD
TZOFFSETFROM:-0500
TZOFFSETTO:-0600
TZNAME:CST
DTSTART:20241103T070000
END:STANDARD
BEGIN:DAYLIGHT
TZOFFSETFROM:-0600
TZOFFSETTO:-0500
TZNAME:CDT
DTSTART:20250309T080000
END:DAYLIGHT
BEGIN:STANDARD
TZOFFSETFROM:-0500
TZOFFSETTO:-0600
TZNAME:CST
DTSTART:20251102T070000
END:STANDARD
END:VTIMEZONE
BEGIN:VEVENT
DTSTART;TZID=America/Chicago:20241125T140000
DTEND;TZID=America/Chicago:20241125T150000
DTSTAMP:20260421T221213
CREATED:20241115T202337Z
LAST-MODIFIED:20241115T202337Z
UID:12588-1732543200-1732546800@northshoreago.org
SUMMARY:A Gift of Music
DESCRIPTION:The wonderful musicians from Poland will present a captivating duo recital featuring the organ and clarinet on Nov. 25\nPlease join us in experiencing the beautiful harmony and unique colors created by these two instruments.
URL:https://northshoreago.org/event/a-gift-of-music-6/
LOCATION:Elliott Chapel\, 3131 Simpson Street\, Evanston\, IL\, 60201\, United States
CATEGORIES:2024 Season
ATTACH;FMTTYPE=image/jpeg:https://northshoreago.org/wp-content/uploads/2024/11/Polish-organist-scaled.jpg
ORGANIZER;CN="Presbyterian Homes ( Westminster Place)":MAILTO:ejooju@presbyterainhomes.org
END:VEVENT
BEGIN:VEVENT
DTSTART;TZID=America/Chicago:20240505T160000
DTEND;TZID=America/Chicago:20240505T180000
DTSTAMP:20260421T221213
CREATED:20240414T213840Z
LAST-MODIFIED:20240414T213840Z
UID:10624-1714924800-1714932000@northshoreago.org
SUMMARY:Bach Week Festival: J. S. Bach: Mass in B Minor\, BWV 232
DESCRIPTION:Bach’s monumental Mass in B Minor will be the grand finale of the Evanston-based Bach Week Festival’s 50th anniversary and its farewell season. \n“It’s truly been a half-century labor of love\,” Richard Webster\, the festival’s longtime music director\, says. “And we’ll conclude this amazing journey with J. S. Bach’s final sacred masterpiece\, the incomparable Mass in B Minor\, amid joy and gratitude for all who have been part of Bach Week.” \nWebster\, a nationally prominent church musician\, has been the festival’s music director and conductor since 1975. \nHe performed in and helped organize Evanston’s first Bach Week\, May 5-12\, 1974\, during his senior year at Northwestern University’s School of Music\, under his mentor\, festival founder Karel Paukert. The latter was associate professor of organ and church music at NU and organist and choirmaster at St. Luke’s Episcopal Church in Evanston\, the festival’s first home.  \nShortly after launching Bach Week\, Paukert moved to the Cleveland\, Ohio\, area\, where he has enjoyed a long and distinguished music career that continues to this day. He is expected to attend Bach Week’s final concert May 5 at St. Luke’s featuring Bach’s B-Minor Mass. \nArtists performing in the B-Minor Mass are:\nJosefien Stoppelenburg\, soprano\nKathleen Felty\, soprano\nSusan Platts\, contralto\nGeoffrey Agpalo\, tenor\nDavid Govertsen\, bass\nNorth Park University Chamber Singers\nBach Week Festival Orchestra and Chorus\nRichard Webster\, conductor\nJason Moy\, organ
URL:https://northshoreago.org/event/bach-week-festival-j-s-bach-mass-in-b-minor-bwv-232/
LOCATION:St. Luke’s Episcopal Church\, 939 Hinman Avenue\, Evanston\, IL\, 60202\, United States
CATEGORIES:2024 Season,Non-NSAGO events
ATTACH;FMTTYPE=image/jpeg:https://northshoreago.org/wp-content/uploads/2024/04/Bach_Week_OrchestraChorus_credit_Burlingham_Productions-scaled.jpg
ORGANIZER;CN="Bach Week Festival":MAILTO:info@bachweek.org
END:VEVENT
BEGIN:VEVENT
DTSTART;TZID=America/Chicago:20240421T150000
DTEND;TZID=America/Chicago:20240421T170000
DTSTAMP:20260421T221213
CREATED:20231229T154712Z
LAST-MODIFIED:20231229T155603Z
UID:10048-1713711600-1713718800@northshoreago.org
SUMMARY:The Art of Continuo Playing with David Schrader
DESCRIPTION:April 21st at 3:00pm \nDavid Schrader will do a reprise of the workshop that he presented at the Great Lakes Regional Convention on the Art of Continuo Playing. \nThis workshop will be held at The First United Methodist Church of Evanston and featuring their rather new continuo organ.
URL:https://northshoreago.org/event/the-art-of-continuo-playing-with-david-schrader/
LOCATION:First United Methodist Church Evanston\, 516 Church Street\, Evanston\, IL\, 60201\, United States
CATEGORIES:2024 Season
ATTACH;FMTTYPE=image/png:https://northshoreago.org/wp-content/uploads/2023/12/NSAGO-events.png
END:VEVENT
BEGIN:VEVENT
DTSTART;TZID=America/Chicago:20240212T180000
DTEND;TZID=America/Chicago:20240212T193000
DTSTAMP:20260421T221213
CREATED:20240131T151057Z
LAST-MODIFIED:20240131T195646Z
UID:10256-1707760800-1707766200@northshoreago.org
SUMMARY:WEBINAR: Woman Composer Sunday: Honoring Trailblazers and Inspiring New Generations
DESCRIPTION:On Monday\, February 12th\, 6pm Central (7pm Eastern)\, National AGO Task Force for Gender Equity will offer a webinar covering repertoire and resources related to Woman Composer Sunday (10 March). The task force selected three women composers: Elizabeth Stirling (1819-1895)\, introduced in the January issue of TAO; Grace Wiersma\, daughter of Dr. Roberta Bitgood\, organist\, composer\, and first female president of the AGO (1975-1981); and contemporary composer Martha Sobaje. Look for works by all three in the January-March issues of TAO\, for use on Woman Composer Sunday. \nRegister at: https://us02web.zoom.us/webinar/register/WN_oMGtLfgcSzC5FwqSaqrzuA
URL:https://northshoreago.org/event/webinar-woman-composer-sunday-honoring-trailblazers-and-inspiring-new-generations/
LOCATION:IL
CATEGORIES:2024 Season,AGO Events
ATTACH;FMTTYPE=image/png:https://northshoreago.org/wp-content/uploads/2024/01/2024-NSAGO-Events.png
END:VEVENT
BEGIN:VEVENT
DTSTART;TZID=America/Chicago:20240211T150000
DTEND;TZID=America/Chicago:20240211T170000
DTSTAMP:20260421T221213
CREATED:20231229T154429Z
LAST-MODIFIED:20231229T154429Z
UID:10043-1707663600-1707670800@northshoreago.org
SUMMARY:Members Recital
DESCRIPTION:Members’ Recital featuring the music of the Epiphany and Transfiguration Season at Winnetka Covenant Church\, 1200 Hibbard Road\, Winnetka.\nMembers Bridget de la Pena\, Michael Gagne\, Robert McConnell\, Ethan Mellema and Matthew Doran will be the recitalists.
URL:https://northshoreago.org/event/members-recital/
LOCATION:Winnetka Covenant Church\, 1200 Hibbard Road\, Winnetka\, IL\, 60093\, United States
CATEGORIES:2024 Season
ATTACH;FMTTYPE=image/jpeg:https://northshoreago.org/wp-content/uploads/2023/12/small-red-wooden-heart-with-musical-notes-love-study-music-concept-1.jpg
END:VEVENT
BEGIN:VEVENT
DTSTART;TZID=America/Chicago:20240126T190000
DTEND;TZID=America/Chicago:20240126T210000
DTSTAMP:20260421T221213
CREATED:20240104T154136Z
LAST-MODIFIED:20240104T154136Z
UID:10094-1706295600-1706302800@northshoreago.org
SUMMARY:Dr. Jonathan Rudy plays Len Berghaus Memorial Concert presented by Fox Valley AGO
DESCRIPTION:An invitation from Fox Valley\nOn Friday\, January 26\, at 7:00 p.m.\, the Fox Valley AGO chapter will present a concert with Dr. Jonathan Rudy\, and has invited members from the Chicago chapter to attend. The concert will be at St. Raphael Catholic Church\, located at 1215 Modaff Road in Naperville\, IL. \nThis concert celebrates the legacy of Len Berghaus\, who died in January 2023. The St. Raphael organ is the largest of his organs in the Fox Valley region. The St. Raphael organ is also turning 25 years old this year\, so Dr. Rudy will play many selections from the dedication program as well as some of Len Berghaus’s favorite pieces\, including selections by Willan\, Manz\, Bach\, Schumann\, and Mozart. \nA Gala Reception will follow the concert.
URL:https://northshoreago.org/event/dr-jonathan-rudy-plays-len-berghaus-memorial-concert-presented-by-fox-valley-ago/
LOCATION:St. Raphael Catholic Church\, 1215 Modaff Road\, Naperville\, IL\, 60540\, United States
CATEGORIES:2024 Season,AGO Events
ATTACH;FMTTYPE=image/png:https://northshoreago.org/wp-content/uploads/2024/01/FoxValleyAGO-concert-Jan2024.png
END:VEVENT
END:VCALENDAR