BEGIN:VCALENDAR
VERSION:2.0
PRODID:-//North Shore Chapter of the American Guild of Organists - ECPv6.15.20//NONSGML v1.0//EN
CALSCALE:GREGORIAN
METHOD:PUBLISH
X-ORIGINAL-URL:https://northshoreago.org
X-WR-CALDESC:Events for North Shore Chapter of the American Guild of Organists
REFRESH-INTERVAL;VALUE=DURATION:PT1H
X-Robots-Tag:noindex
X-PUBLISHED-TTL:PT1H
BEGIN:VTIMEZONE
TZID:America/Chicago
BEGIN:DAYLIGHT
TZOFFSETFROM:-0600
TZOFFSETTO:-0500
TZNAME:CDT
DTSTART:20240310T080000
END:DAYLIGHT
BEGIN:STANDARD
TZOFFSETFROM:-0500
TZOFFSETTO:-0600
TZNAME:CST
DTSTART:20241103T070000
END:STANDARD
BEGIN:DAYLIGHT
TZOFFSETFROM:-0600
TZOFFSETTO:-0500
TZNAME:CDT
DTSTART:20250309T080000
END:DAYLIGHT
BEGIN:STANDARD
TZOFFSETFROM:-0500
TZOFFSETTO:-0600
TZNAME:CST
DTSTART:20251102T070000
END:STANDARD
BEGIN:DAYLIGHT
TZOFFSETFROM:-0600
TZOFFSETTO:-0500
TZNAME:CDT
DTSTART:20260308T080000
END:DAYLIGHT
BEGIN:STANDARD
TZOFFSETFROM:-0500
TZOFFSETTO:-0600
TZNAME:CST
DTSTART:20261101T070000
END:STANDARD
BEGIN:DAYLIGHT
TZOFFSETFROM:-0600
TZOFFSETTO:-0500
TZNAME:CDT
DTSTART:20270314T080000
END:DAYLIGHT
BEGIN:STANDARD
TZOFFSETFROM:-0500
TZOFFSETTO:-0600
TZNAME:CST
DTSTART:20271107T070000
END:STANDARD
END:VTIMEZONE
BEGIN:VEVENT
DTSTART;TZID=America/Chicago:20260201T150000
DTEND;TZID=America/Chicago:20260201T160000
DTSTAMP:20260420T215635
CREATED:20260109T215554Z
LAST-MODIFIED:20260201T201127Z
UID:14903-1769958000-1769961600@northshoreago.org
SUMMARY:NSAGO Members’ Recital
DESCRIPTION:NSAGO Members’ Recital celebrating Black History Month\nSunday\, February 1\, 2026 @ 3:00pm\nFUMC Evanston (NEW location)\n516 Church Street\nEvanston\, IL 60201 \nThe recital is free and open to the public.\nEnter via the entrances on Church St. or Hinman Ave.\nLimited street parking is available and Evanston’s public parking garages are free on Sundays including the one at Chicago & Church across from the venue:\nhttps://www.cityofevanston.org/residents/parking/lots-and-garages \nWe encourage you to continue to explore this repertoire through collections like GIA’s “King of Kings” and MorningStar’s “African-American Organ Music Anthology.” Our Sub-Dean Marianne Kim is coordinating this program and performers include Bridget de la Peña\, Matthew Doran\, Alan Hommerding\, Eun Joo Ju\, Derek Nickels\, & Brian Schoettler.
URL:https://northshoreago.org/event/nsago-members-recital/
LOCATION:Music Institute of Chicago\, 1490 Chicago Avenue\, Evanston\, IL\, 60201\, United States
CATEGORIES:2025-2026 Season Program
END:VEVENT
BEGIN:VEVENT
DTSTART;TZID=America/Chicago:20260106T183000
DTEND;TZID=America/Chicago:20260106T203000
DTSTAMP:20260420T215635
CREATED:20251109T211717Z
LAST-MODIFIED:20251109T211717Z
UID:14680-1767724200-1767731400@northshoreago.org
SUMMARY:NSAGO Epiphany Party
DESCRIPTION:Saturday\, January 6\, 2026 @ 6:30pm\nAddress: 516 Greenwood Street\, Evanston\, IL 60201 \nWe gather at the home of Andrea Handley for our annual post-Christmas\, Epiphany party.\nEnjoy a wonderful dinner and drinks with colleagues followed by dessert\, carols\, and Leroy Anderson’s “Sleigh Ride.”  Free street parking is available on Greenwood and in the lot across the street at First Presbyterian Church. \nA suggested donation of $15-20 helps cover the cost of this event.\nCash at the event is easiest but you may also donate via Zelle using treasurer@teal-ostrich-479748.hostingersite.com\nPlease RSVP before the end of December using this link: https://forms.gle/KrBcXF7ycSXdu8SBA
URL:https://northshoreago.org/event/nsago-epiphany-party/
LOCATION:Andrea Handley’s home\, 516 Greenwood Street\, Evanston\, IL\, 60201\, United States
CATEGORIES:2025-2026 Season Program
ATTACH;FMTTYPE=image/png:https://northshoreago.org/wp-content/uploads/2025/11/Epiphany.png
END:VEVENT
BEGIN:VEVENT
DTSTART;TZID=America/Chicago:20251012T160000
DTEND;TZID=America/Chicago:20251012T170000
DTSTAMP:20260420T215635
CREATED:20250827T023209Z
LAST-MODIFIED:20250827T023209Z
UID:14196-1760284800-1760288400@northshoreago.org
SUMMARY:Organ Concert: Jonathan Ryan
DESCRIPTION:FPC and the NSAGO present concert organist Jonathan Ryan.\nThe concert is free and open to the public.
URL:https://northshoreago.org/event/organ-concert-jonathan-ryan/
LOCATION:First Presbyterian Church of Arlington Heights\, 302 N. Dunton Ave.\, Arlington Heights\, IL\, 60004\, United States
CATEGORIES:2025-2026 Season Program
ATTACH;FMTTYPE=image/jpeg:https://northshoreago.org/wp-content/uploads/2025/08/JRyan-hi-res.jpg
END:VEVENT
BEGIN:VEVENT
DTSTART;TZID=America/Chicago:20251009T190000
DTEND;TZID=America/Chicago:20251009T203000
DTSTAMP:20260420T215635
CREATED:20250912T214615Z
LAST-MODIFIED:20251003T212338Z
UID:14316-1760036400-1760041800@northshoreago.org
SUMMARY:Holy Name Cathedral Concert Series Organ Concert
DESCRIPTION:Cathedral Concert Series season 2025-2026 opener featuring Dr. Thomas Fielding\, Director of Music for the Cathedral of St. John the Evangelist in Cleveland\, Ohio. He will present on the Flentrop organ a program of Bruhn\, Bach\, Fielding\, Mendelssohn\, Widor and Tournemire.
URL:https://northshoreago.org/event/holy-name-cathedral-concert-series-organ-concert-4/
LOCATION:Holy Name Cathedral\, 730 N. Wabash\, Chicago\, IL\, 60611\, United States
CATEGORIES:2025-2026 Season Program
ATTACH;FMTTYPE=image/jpeg:https://northshoreago.org/wp-content/uploads/2025/09/TFielding-2025-pic.jpg
END:VEVENT
END:VCALENDAR