BEGIN:VCALENDAR
VERSION:2.0
PRODID:-//North Shore Chapter of the American Guild of Organists - ECPv6.15.20//NONSGML v1.0//EN
CALSCALE:GREGORIAN
METHOD:PUBLISH
X-WR-CALNAME:North Shore Chapter of the American Guild of Organists
X-ORIGINAL-URL:https://northshoreago.org
X-WR-CALDESC:Events for North Shore Chapter of the American Guild of Organists
REFRESH-INTERVAL;VALUE=DURATION:PT1H
X-Robots-Tag:noindex
X-PUBLISHED-TTL:PT1H
BEGIN:VTIMEZONE
TZID:America/Chicago
BEGIN:DAYLIGHT
TZOFFSETFROM:-0600
TZOFFSETTO:-0500
TZNAME:CDT
DTSTART:20250309T080000
END:DAYLIGHT
BEGIN:STANDARD
TZOFFSETFROM:-0500
TZOFFSETTO:-0600
TZNAME:CST
DTSTART:20251102T070000
END:STANDARD
BEGIN:DAYLIGHT
TZOFFSETFROM:-0600
TZOFFSETTO:-0500
TZNAME:CDT
DTSTART:20260308T080000
END:DAYLIGHT
BEGIN:STANDARD
TZOFFSETFROM:-0500
TZOFFSETTO:-0600
TZNAME:CST
DTSTART:20261101T070000
END:STANDARD
BEGIN:DAYLIGHT
TZOFFSETFROM:-0600
TZOFFSETTO:-0500
TZNAME:CDT
DTSTART:20270314T080000
END:DAYLIGHT
BEGIN:STANDARD
TZOFFSETFROM:-0500
TZOFFSETTO:-0600
TZNAME:CST
DTSTART:20271107T070000
END:STANDARD
END:VTIMEZONE
BEGIN:VEVENT
DTSTART;TZID=America/Chicago:20260301T133000
DTEND;TZID=America/Chicago:20260301T143000
DTSTAMP:20260421T220452
CREATED:20260112T182541Z
LAST-MODIFIED:20260112T182541Z
UID:14912-1772371800-1772375400@northshoreago.org
SUMMARY:Brian Schoettler - Organist
DESCRIPTION:Organist Brian Schoettler will present a 60-minute concert featuring FUMC Evanston’s mighty\, Austin pipe organ (Opus 319). The program will feature works by American composers including Samuel Barber\, Aaron Copland\, Charles Ives\, Florence Price\, and others.\nThe 1:30pm concert is free and open to the public. \nSunday\, March 1\, 2026 – 1:30pm\nOrgan Concert: Brian Schoettler\nFirst United Methodist Church\n516 Church Street\, Evanston\, Illinois 60201\nPhone: 847-864-6181\nWebsite: https://faithatfirst.org/event/organ-concert-brian-schoettler/
URL:https://northshoreago.org/event/brian-schoettler-organist/
LOCATION:First United Methodist Church Evanston\, 516 Church Street\, Evanston\, IL\, 60201\, United States
CATEGORIES:Non-NSAGO events
ATTACH;FMTTYPE=image/jpeg:https://northshoreago.org/wp-content/uploads/2026/01/Schoettler-Brian-Headshot-resize.jpg
END:VEVENT
BEGIN:VEVENT
DTSTART;TZID=America/Chicago:20260321T150000
DTEND;TZID=America/Chicago:20260321T170000
DTSTAMP:20260421T220452
CREATED:20260311T190839Z
LAST-MODIFIED:20260311T190839Z
UID:15132-1774105200-1774112400@northshoreago.org
SUMMARY:Trio de Chats Noir (horn\, bass trombone\, & organ)
DESCRIPTION:Album Preview and Benefit Concert\nDonations to benefit Hunger Resource Network (https://www.hungerresourcenetwork.org/donate) \nTrio de Chats Noirs—Rachel Velvikis (horn)\, Mark Fry (bass trombone)\, and organist Christopher Powell—invites you to an intimate album preview concert celebrating our upcoming recording project\, Transcendent: Music for horn\, bass trombone and organ.\nThis special performance takes place in the very sanctuary where we have conducted (and will have completed) multiple recording sessions\, using the same breathtaking instrument and acoustics. The Hellmuth Wolff organ (Opus 37\, 1994) at Saint Giles Episcopal Church is a masterpiece—2 manuals and pedal\, 19 stops/25 ranks\, mechanical action\, classic French-inspired voicing\, and a striking solid mahogany double case. Its expressive clarity and warmth\, combined with the church’s superb natural resonance\, make it the ideal partner for this brass-and-organ repertoire. \nThe program includes:\nMatthias Spiegler – Canzone I\nAnton Bruckner – Ave Maria WAB 7\nCamille Saint-Saëns – Offertoire\nCésar Franck – Prélude\, Op.18\nW.A. Mozart – Laudate Dominum\nArcangelo Corelli – Sonata in G Minor\nFranz Liszt – Hosannah! (with chorale “Heilig ist Gott der Vater”)\nCamille Saint-Saëns – Adagio and Andante\nJ. S. Bach – Fantasia in G minor BWV 542\nAlan Hovhaness – The Prayer of Saint Gregory\, Op. 62b\nG.F. Handel – Concerto grosso in F Major\, Op. 3 No. 4b\, HWV deest
URL:https://northshoreago.org/event/trio-de-chats-noir-horn-bass-trombone-organ/
LOCATION:St. Giles Episcopal Church\, 3025 Walters Avenue\, Northbrook\, IL\, 60062\, United States
CATEGORIES:Non-NSAGO events
ATTACH;FMTTYPE=image/jpeg:https://northshoreago.org/wp-content/uploads/2026/03/Trio-de-Chats-Noir.jpg
END:VEVENT
END:VCALENDAR