BEGIN:VCALENDAR
VERSION:2.0
PRODID:-//North Shore Chapter of the American Guild of Organists - ECPv6.15.20//NONSGML v1.0//EN
CALSCALE:GREGORIAN
METHOD:PUBLISH
X-WR-CALNAME:North Shore Chapter of the American Guild of Organists
X-ORIGINAL-URL:https://northshoreago.org
X-WR-CALDESC:Events for North Shore Chapter of the American Guild of Organists
REFRESH-INTERVAL;VALUE=DURATION:PT1H
X-Robots-Tag:noindex
X-PUBLISHED-TTL:PT1H
BEGIN:VTIMEZONE
TZID:America/Chicago
BEGIN:DAYLIGHT
TZOFFSETFROM:-0600
TZOFFSETTO:-0500
TZNAME:CDT
DTSTART:20140309T080000
END:DAYLIGHT
BEGIN:STANDARD
TZOFFSETFROM:-0500
TZOFFSETTO:-0600
TZNAME:CST
DTSTART:20141102T070000
END:STANDARD
BEGIN:DAYLIGHT
TZOFFSETFROM:-0600
TZOFFSETTO:-0500
TZNAME:CDT
DTSTART:20150308T080000
END:DAYLIGHT
BEGIN:STANDARD
TZOFFSETFROM:-0500
TZOFFSETTO:-0600
TZNAME:CST
DTSTART:20151101T070000
END:STANDARD
BEGIN:DAYLIGHT
TZOFFSETFROM:-0600
TZOFFSETTO:-0500
TZNAME:CDT
DTSTART:20160313T080000
END:DAYLIGHT
BEGIN:STANDARD
TZOFFSETFROM:-0500
TZOFFSETTO:-0600
TZNAME:CST
DTSTART:20161106T070000
END:STANDARD
BEGIN:DAYLIGHT
TZOFFSETFROM:-0600
TZOFFSETTO:-0500
TZNAME:CDT
DTSTART:20170312T080000
END:DAYLIGHT
BEGIN:STANDARD
TZOFFSETFROM:-0500
TZOFFSETTO:-0600
TZNAME:CST
DTSTART:20171105T070000
END:STANDARD
BEGIN:DAYLIGHT
TZOFFSETFROM:-0600
TZOFFSETTO:-0500
TZNAME:CDT
DTSTART:20180311T080000
END:DAYLIGHT
BEGIN:STANDARD
TZOFFSETFROM:-0500
TZOFFSETTO:-0600
TZNAME:CST
DTSTART:20181104T070000
END:STANDARD
BEGIN:DAYLIGHT
TZOFFSETFROM:-0600
TZOFFSETTO:-0500
TZNAME:CDT
DTSTART:20190310T080000
END:DAYLIGHT
BEGIN:STANDARD
TZOFFSETFROM:-0500
TZOFFSETTO:-0600
TZNAME:CST
DTSTART:20191103T070000
END:STANDARD
BEGIN:DAYLIGHT
TZOFFSETFROM:-0600
TZOFFSETTO:-0500
TZNAME:CDT
DTSTART:20200308T080000
END:DAYLIGHT
BEGIN:STANDARD
TZOFFSETFROM:-0500
TZOFFSETTO:-0600
TZNAME:CST
DTSTART:20201101T070000
END:STANDARD
END:VTIMEZONE
BEGIN:VEVENT
DTSTART;TZID=America/Chicago:20190428T180000
DTEND;TZID=America/Chicago:20190428T200000
DTSTAMP:20260415T022153
CREATED:20190403T162300Z
LAST-MODIFIED:20200304T150530Z
UID:4933-1556474400-1556481600@northshoreago.org
SUMMARY:Annual Banquet 2019
DESCRIPTION:Please Join Us Immediately Following the Concert… \nAnnual Banquet at Hackney’s on Lake\n1514 E Lake Avenue • Glenview\, IL 60025\n$25.00 per person\nReservations & Payment due by April 24th \nPrix Fixe menu includes option of entree\, plus salad\, rolls\, unlimited soft drinks/coffee\, and dessert. Cash Bar available. \nQuestions? Contact rclemmitt@christchurchwinnetka.org \nReserve Online\nPlease enter your information in the form below to reserve your spot. You will be redirected to PayPal to complete payment. \n[CP_CONTACT_FORM_PAYPAL id=”1″]
URL:https://northshoreago.org/event/annual-banquet/
LOCATION:Hackney’s On Lake\, 1514 E Lake Avenue\, Glenview\, IL\, 60025\, United States
CATEGORIES:NSAGO events
ATTACH;FMTTYPE=image/jpeg:https://northshoreago.org/wp-content/uploads/2019/04/lakenogreen-hackneys-e1436478463157.jpg
END:VEVENT
BEGIN:VEVENT
DTSTART;TZID=America/Chicago:20190428T160000
DTEND;TZID=America/Chicago:20190428T173000
DTSTAMP:20260415T022153
CREATED:20190403T162025Z
LAST-MODIFIED:20190403T220228Z
UID:4929-1556467200-1556472600@northshoreago.org
SUMMARY:Young Artist Recital
DESCRIPTION:Sunday\, April 28\, 4:00 p.m.\nGlenview Community Church\n1000 Elm Street • Glenview\, IL 60025 \nA special performance featuring young organists \nAdam Gruber\, Jonathan Rudy\, and Madeleine Woodworth\n\n		\n		\n			\n				\n			\n				\n				Adam Gruber\n				\n			\n				\n			\n				\n				Jonathan Rudy\n				\n			\n				\n			\n				\n				Madeleine Woodworth\n				\n		\n\nPerforming organ music of Buxtehude\, Mozart\, Mendelssohn\, Schumann\, Brahms\, Eben\, Guillou\, Hampton\, and Decker\nFREE ADMISSION\nWith a freewill offering taken to support the Northfield Township Food Pantry
URL:https://northshoreago.org/event/young-artist-recital/
LOCATION:Glenview Community Church\, 1000 Elm Street\, Glenview\, IL\, 60025\, United States
CATEGORIES:NSAGO events
ATTACH;FMTTYPE=image/jpeg:https://northshoreago.org/wp-content/uploads/2019/04/NSAGO-YoungArtistsRecital2019-banner.jpg
END:VEVENT
BEGIN:VEVENT
DTSTART;VALUE=DATE:20190222
DTEND;VALUE=DATE:20190224
DTSTAMP:20260415T022153
CREATED:20190111T195741Z
LAST-MODIFIED:20190111T200024Z
UID:4763-1550793600-1550966399@northshoreago.org
SUMMARY:NSAGO Event: Marie-Rubis Bauer in recital
DESCRIPTION:Friday\, Feb 22\, 2019\, 7:30pm – Recital \nSaturday\, February 23\, 2019\, 10:00am – Masterclass \nWinnetka Congregational Church  \n725 Pine Street\, Winnetka\, IL 60093 \nMARIE-RUBIS BAUER in RECITAL \nand MASTERCLASS \n(In collaboration with the Chicago AGO Chapter) \nOur second collaboration this season the Chicago chapter\, this time in north shore territory\, hosting Marie-Rubis Bauer\, Archdiocesan Director of Music and Cathedral Organist at Saint Cecilia Cathedral in Omaha\, Nebraska. Come join us for a recital on the Pasi at Winnetka Congregational Church. For more information\, contact: Evan DuVall (mevanduvall@comcast.net). \n 
URL:https://northshoreago.org/event/nsago-event-marie-rubis-bauer-in-recital/
LOCATION:Winnetka Congregational Church\, 725 Pine Street\, Winnetka\, IL\, 60093\, United States
CATEGORIES:Non-NSAGO events,NSAGO events
END:VEVENT
BEGIN:VEVENT
DTSTART;TZID=America/Chicago:20181016T193000
DTEND;TZID=America/Chicago:20181016T193000
DTSTAMP:20260415T022153
CREATED:20181010T115018Z
LAST-MODIFIED:20181010T115018Z
UID:4655-1539718200-1539718200@northshoreago.org
SUMMARY:Olivier Latry\, Organist\, Holy Name Cathedral
DESCRIPTION:This event is co-sponsored by the Northshore and Chicago AGO chapters\, and Holy Name Cathedral.  Olivier Latry is Titular Organist of the Cathedral of Notre Dame in Paris\, and professor at the Paris Conservatory. \nAdmission is free for members of Chicago AGO and North Shore AGO.  General admission is $20.  
URL:https://northshoreago.org/event/olivier-latry-organist-holy-name-cathedral/
LOCATION:Holy Name Cathedral\, 730 N. Wabash\, Chicago\, IL\, 60611\, United States
CATEGORIES:NSAGO events
END:VEVENT
BEGIN:VEVENT
DTSTART;TZID=America/Chicago:20180602T170000
DTEND;TZID=America/Chicago:20180602T200000
DTSTAMP:20260415T022153
CREATED:20170630T160813Z
LAST-MODIFIED:20170630T160913Z
UID:3356-1527958800-1527969600@northshoreago.org
SUMMARY:NSAGO 60th Anniversary Season: Chapter Picnic
DESCRIPTION:Saturday\, June 2\, 2018\, 5:00 pm \nBoard member Judy Kohl’s home \n630 S. Green Bay Road\, Lake Forest\, IL 60045 \nCHAPTER PICNIC \nJoin us at the BEAUTIFUL home of board member Judy Kohl for a final party closing our year of anniversary celebrations. Contact: Judy Kohl (judygkohl@gmail.com). \n 
URL:https://northshoreago.org/event/nsago-60th-anniversary-season-chapter-picnic/
LOCATION:Judy Kohl’s Home\, 630 S. Green Bay Road\, Lake Forest\, IL\, 60045\, United States
CATEGORIES:NSAGO events
END:VEVENT
BEGIN:VEVENT
DTSTART;TZID=America/Chicago:20180429T160000
DTEND;TZID=America/Chicago:20180429T200000
DTSTAMP:20260415T022153
CREATED:20170630T160636Z
LAST-MODIFIED:20170630T160636Z
UID:3353-1525017600-1525032000@northshoreago.org
SUMMARY:NSAGO 60th Anniversary Season: Deans' Recital and Gala Banquet
DESCRIPTION:Sunday\, April 29\, 2018\, 4:00pm \nFirst Presbyterian Church \n1427 Chicago Avenue\, Evanston\, IL 60201 \nFINAL ANNIVERSARY GALA CELEBRATION:  \nDEAN’S RECITAL AND BANQUET \nCome hear former deans of this chapter perform on the 64-rank Aeolian-Skinner that hosted the very first program of our chapter in 1958. Then celebrate our 60 years together at a gala banquet following the recital at Pete Miller’s Steakhouse\, a short walk just east of the church. For more information contact Steve Folkers (swf12262@aol.com). \n 
URL:https://northshoreago.org/event/nsago-60th-anniversary-season-deans-recital-and-gala-banquet/
LOCATION:First Presbyterian Church of Evanston\, 1427 Chicago Ave\, Evanston\, IL\, 60201\, United States
CATEGORIES:NSAGO events
END:VEVENT
BEGIN:VEVENT
DTSTART;TZID=America/Chicago:20180304T170000
DTEND;TZID=America/Chicago:20180304T190000
DTSTAMP:20260415T022153
CREATED:20170630T160407Z
LAST-MODIFIED:20170630T160407Z
UID:3350-1520182800-1520190000@northshoreago.org
SUMMARY:NSAGO 60th Anniversary Season: The Organ - Then and Now
DESCRIPTION:Sunday\, March 4\, 2018\, 5:00pm-7:00pm \nChurch of the Holy Comforter \n222 Kenilworth Avenue\, Kenilworth\, IL 60043 \n\n\n\nOur instrument has undergone many changes in the last 60 years. Join us for wine and cheese\, and a panel discussion about the changes in the organ in the past 60 years. Hear our panel of organ builders and professors\, as well as church musicians discuss those changes\, and cast a vision for the future of our instrument as well. For more information\, contact Sharon Peterson (speterson@igc.org).
URL:https://northshoreago.org/event/nsago-60th-anniversary-season-the-organ-then-and-now/
LOCATION:Church of the Holy Comforter\, 222 Kenilworth Ave\, Kenilworth\, IL\, 60201\, United States
CATEGORIES:NSAGO events
END:VEVENT
BEGIN:VEVENT
DTSTART;TZID=America/Chicago:20180105T180000
DTEND;TZID=America/Chicago:20180105T210000
DTSTAMP:20260415T022153
CREATED:20170630T160105Z
LAST-MODIFIED:20170630T160105Z
UID:3347-1515175200-1515186000@northshoreago.org
SUMMARY:NSAGO 60th Anniversary Season: Epiphany Party
DESCRIPTION:Friday\, January 5\, 2018\, 6:00 pm \nDean Andrea Handley’s home \n516 Greenwood St\, Evanston\, IL 60201 \nFOURTH ANNUAL EPIPHANY PARTY \nJoin us for our fourth Epiphany party at our dean’s festively decorated home! Appetizers and drinks at 6\, dinner at 6:30\, with program following of Christmas and holiday favorites. Contact: Andrea Handley (andrea.handley@gmail.com). \n  \n 
URL:https://northshoreago.org/event/nsago-60th-anniversary-season-epiphany-party/
LOCATION:Andrea Handley’s home\, 516 Greenwood Street\, Evanston\, IL\, 60201\, United States
CATEGORIES:NSAGO events
END:VEVENT
BEGIN:VEVENT
DTSTART;TZID=America/Chicago:20171111T100000
DTEND;TZID=America/Chicago:20171111T120000
DTSTAMP:20260415T022153
CREATED:20170630T155548Z
LAST-MODIFIED:20171017T203138Z
UID:3344-1510394400-1510401600@northshoreago.org
SUMMARY:NSAGO 60th Anniversary Season: Janette Fishell Master Class
DESCRIPTION:Saturday\, November 11\, 10:00am-noon \nAlice Millar Chapel\, Northwestern University \n1870 Sheridan Road\, Evanston\, IL 60208  \nMASTERCLASS with JANETTE FISHELL \nChair of the organ department at the Indiana University School of Music\, Janette Fishell will teach a masterclass on Saturday\, which will include interested chapter members and students of chapter members. For more information\, contact: Evan DuVall (mevanduvall@comcast.net). \n 
URL:https://northshoreago.org/event/nsago-60th-anniversary-season-janette-fishell-master-class/
LOCATION:Alice Millar Chapel\, 1870 Sheridan Road\, Evanston\, IL\, 60201\, United States
CATEGORIES:NSAGO events
ATTACH;FMTTYPE=image/jpeg:https://northshoreago.org/wp-content/uploads/2017/06/fishell.jpg
END:VEVENT
BEGIN:VEVENT
DTSTART;TZID=America/Chicago:20171110T193000
DTEND;TZID=America/Chicago:20171110T210000
DTSTAMP:20260415T022153
CREATED:20170630T155416Z
LAST-MODIFIED:20171017T202704Z
UID:3342-1510342200-1510347600@northshoreago.org
SUMMARY:NSAGO 60th Anniversary Season: Janette Fishell in Recital
DESCRIPTION:Friday\, November 10\, 2017\, 7:30pm \nAlice Millar Chapel\, Northwestern University \n1870 Sheridan Road\, Evanston\, IL 60208  \nJANETTE FISHELL in RECITAL \nChair of the organ department at the Indiana University School of Music\, Janette Fishell was a student of Richard Enright\, beloved member of our chapter who passed away in 2016. This recital will be in Dick’s honor\, and played on the organ where he taught students at NU for many years\, including Janette!  (Note Part 2 of this program – a master class – on Saturday\, November 11 isting.) For more information\, contact: Evan DuVall (mevanduvall@comcast.net). \n 
URL:https://northshoreago.org/event/nsago-60th-anniversary-season-janette-fishell-in-recital/
LOCATION:Alice Millar Chapel\, 1870 Sheridan Road\, Evanston\, IL\, 60201\, United States
CATEGORIES:NSAGO events
ATTACH;FMTTYPE=image/jpeg:https://northshoreago.org/wp-content/uploads/2017/06/fishell.jpg
END:VEVENT
BEGIN:VEVENT
DTSTART;TZID=America/Chicago:20170924T190000
DTEND;TZID=America/Chicago:20170924T210000
DTSTAMP:20260415T022153
CREATED:20170630T154932Z
LAST-MODIFIED:20170630T155218Z
UID:3336-1506279600-1506286800@northshoreago.org
SUMMARY:NSAGO 60th Anniversary Season: Guild Installation Service and Reception
DESCRIPTION:Sunday\, September 24\, 2017\, 7:00pm \nFirst Methodist Church \n516 Church Street\, Evanston\, IL 60201 \nGUILD INSTALLATION SERVICE and RECEPTION \nTo kick off our 60th anniversary season\, we will gather for a Guild service of installation of officers and new board members\, with music by composers from the history of our chapter—Thomas Matthews\, Austin Lovelace and more. A welcome reception will follow. For more information\, contact Kathy Roderer (kroderer@gmail.com). \n 
URL:https://northshoreago.org/event/nsago-60th-anniversary-season-guild-installation-service-and-reception/
LOCATION:First United Methodist Church Evanston\, 516 Church Street\, Evanston\, IL\, 60201\, United States
CATEGORIES:NSAGO events
END:VEVENT
BEGIN:VEVENT
DTSTART;TZID=America/Chicago:20170605T180000
DTEND;TZID=America/Chicago:20170605T210000
DTSTAMP:20260415T022153
CREATED:20160531T200615Z
LAST-MODIFIED:20170523T171904Z
UID:2656-1496685600-1496696400@northshoreago.org
SUMMARY:WAR and PEACE: MEMBER RECITAL and GALA RECEPTION
DESCRIPTION:Monday\, June 5\, 2017\, 7:00 pm\nSt. Giles Episcopal Church\n3025 Walters Avenue\, Northbrook\, IL 60062\nWAR AND PEACE: MEMBERS’ RECITAL\nAND GALA RECEPTION\nJoin us for our annual closing members’ recital of music relating to war and peace\, followed by a gala reception. Contact: Robert Woodworth (robertwoodworth@att.net). \n 
URL:https://northshoreago.org/event/war-and-peace-member-recital-and-gala-reception/
LOCATION:St. Giles Episcopal Church\, 3025 Walters Avenue\, Northbrook\, IL\, 60062\, United States
CATEGORIES:NSAGO events
ATTACH;FMTTYPE=image/png:https://northshoreago.org/wp-content/uploads/2016/05/Logo.png
END:VEVENT
BEGIN:VEVENT
DTSTART;TZID=America/Chicago:20170430T160000
DTEND;TZID=America/Chicago:20170430T180000
DTSTAMP:20260415T022153
CREATED:20160531T200345Z
LAST-MODIFIED:20170523T171740Z
UID:2654-1493568000-1493575200@northshoreago.org
SUMMARY:SPRING HYMN FESTIVAL
DESCRIPTION:Sunday\, April 30\, 2017\, 4:00pm\nWinnetka Congregational Church\n725 Pine Street\, Winnetka\, IL 60093\nSPRING HYMN FESTIVAL\nJoin us at for a rich time of hymn singing\, led by David Cherwien. Recognized for his contributions to the field of church music and liturgy\, Cherwien is in demand as a clinician and hymn festival leader across the country. Contact: Philip McPeek (philipmcpeek@gmail.com). \n 
URL:https://northshoreago.org/event/spring-hymn-festival/
LOCATION:Winnetka Congregational Church\, 725 Pine Street\, Winnetka\, IL\, 60093\, United States
CATEGORIES:NSAGO events
ATTACH;FMTTYPE=image/png:https://northshoreago.org/wp-content/uploads/2016/05/Logo.png
END:VEVENT
BEGIN:VEVENT
DTSTART;TZID=America/Chicago:20170218T093000
DTEND;TZID=America/Chicago:20170218T113000
DTSTAMP:20260415T022153
CREATED:20160531T195908Z
LAST-MODIFIED:20170117T221611Z
UID:2652-1487410200-1487417400@northshoreago.org
SUMMARY:INSIDE THE ORGAN
DESCRIPTION:Saturday\, February 18\, 9:30am-11:30am\nFirst Presbyterian Church of Lake Forest\n700 N. Sheridan Road\, Lake Forest\, IL 60045\nINSIDE THE ORGAN\nA pipe organ is much more than the facade you see with the visible pipes. Come and join Kurt Roderer\, retired organ builder and former curator of organs at Northwestern University\, as he takes you on a tour of the inner workings of a fine Casavant mechanical action organ.   Contact: Kathy Roderer (kroderer@gmail.com). \n 
URL:https://northshoreago.org/event/inside-the-organ/
LOCATION:First Presbyterian Church of Lake Forest\, 700 N. Sheridan Ave.\, Lake Forest\, IL\, 60045\, United States
CATEGORIES:NSAGO events
END:VEVENT
BEGIN:VEVENT
DTSTART;TZID=America/Chicago:20170106T180000
DTEND;TZID=America/Chicago:20170106T210000
DTSTAMP:20260415T022153
CREATED:20160531T194118Z
LAST-MODIFIED:20160531T195944Z
UID:2649-1483725600-1483736400@northshoreago.org
SUMMARY:THIRD ANNUAL EPIPHANY PARTY
DESCRIPTION:Friday\, January 6\, 2017\, 6:00 pm\nDean Andrea Handley’s home\n516 Greenwood St\, Evanston\, IL 60201\nTHIRD ANNUAL EPIPHANY PARTY\nJoin us for our third Epiphany party at our dean’s festively decorated home! Appetizers and drinks at 6\, dinner at 6:30\, with program following of Christmas and holiday favorites. Contact: Bev Sheridan (bevsherida@yahoo.com). \n  \n 
URL:https://northshoreago.org/event/third-annual-epiphany-party/
LOCATION:Dean Andrea Handley’s home\, 516 Greenwood Avenue\, Evanston\, IL\, 60201\, United States
CATEGORIES:NSAGO events
END:VEVENT
BEGIN:VEVENT
DTSTART;TZID=America/Chicago:20161112T090000
DTEND;TZID=America/Chicago:20161112T120000
DTSTAMP:20260415T022153
CREATED:20160531T194614Z
LAST-MODIFIED:20160531T200003Z
UID:2650-1478941200-1478952000@northshoreago.org
SUMMARY:CREATIVE HYMN PLAYING and ADAPTING PIANO MUSIC FOR ORGAN WORKSHOPS
DESCRIPTION:Saturday\, November 12\, 2017\, 9:00am-noon\nFirst Presbyterian Church of Arlington Heights\n302 N. Dunton Street\, Arlington Heights\, IL 60004\nCREATIVE HYMN PLAYING\nADAPTING PIANO MUSIC FOR THE ORGAN\nOne of our most important jobs as organists is to encourage congregational singing with hymn playing that enhances the lyrics of hymns. In this workshop you’ll find tips on doing that through phrasing\, registration\, alternate harmonizations and modulations. Secondly\, as organists\, we’re all called on frequently to play music on the organ that was written for piano\, or transcribed for piano from an orchestral score. In this workshop\, you’ll hear tips on effectively adapting piano music—anthems\, solos\, orchestral transcriptions — to the organ. Contact: Sharon Peterson (speterson@igc.org). \n 
URL:https://northshoreago.org/event/creative-hymn-playing-and-adapting-piano-music-for-organ-workshops/
LOCATION:First Presbyterian Church of Arlington Heights\, 302 N. Dunton Ave.\, Arlington Heights\, IL\, 60004\, United States
CATEGORIES:NSAGO events
END:VEVENT
BEGIN:VEVENT
DTSTART;TZID=America/Chicago:20161007T193000
DTEND;TZID=America/Chicago:20161007T213000
DTSTAMP:20260415T022153
CREATED:20160531T193240Z
LAST-MODIFIED:20160531T200027Z
UID:2647-1475868600-1475875800@northshoreago.org
SUMMARY:VINCENT DUBOIS IN RECITAL
DESCRIPTION:Friday October 7\, 2016\, 7:30pm\nSt. Luke’s Episcopal Church\n939 Hinman Avenue\, Evanston\, IL 60202\nVINCENT DUBOIS IN RECITAL \nCome hear Vincent Dubois\, organist at Notre Dame cathedral in Paris\, on the magnificent Skinner Opus 327. Newly appointed as one of the three titular organists at Notre-Dame Cathedral in Paris\, France\, Dubois has performed in major concert venues throughout Europe\, North America\, Asia and the Pacific\, and as guest soloist with the Philadelphia Orchestra\, the Los Angeles Philharmonic\, the Hong-Kong Philharmonic\, the Orchestre Philharmonique of Radio France\, the Orchestre National de France\, the Orquesta Filharmonica del Gran Canaria\, the Orchestre de Picardie\, and the Orchestre de Bretagne.  Contact: Evan Duvall (mevanduvall@comcast.net ). \n  \n 
URL:https://northshoreago.org/event/vincent-dubois-in-recital/
LOCATION:St. Luke’s Episcopal Church\, 939 Hinman Avenue\, Evanston\, IL\, 60202\, United States
CATEGORIES:NSAGO events
ATTACH;FMTTYPE=image/png:https://northshoreago.org/wp-content/uploads/2016/05/Logo.png
END:VEVENT
BEGIN:VEVENT
DTSTART;TZID=America/Chicago:20160522T160000
DTEND;TZID=America/Chicago:20160522T200000
DTSTAMP:20260415T022153
CREATED:20151025T204038Z
LAST-MODIFIED:20160331T200414Z
UID:2023-1463932800-1463947200@northshoreago.org
SUMMARY:Pentecost Celebration and Dinner
DESCRIPTION:Join us for our annual closing member’s recital of Pentecost and Trinity music for organ\, and a delicious dinner at nearby restaurant Gusto afterward. Contact: Laurie Stivers (stiversl@ameritech.net).
URL:https://northshoreago.org/event/pentecost-celebration-and-dinner/
LOCATION:Trinity United Methodist Church\, 1024 Lake Avenue\, Wilmette\, IL\, 60091\, United States
CATEGORIES:NSAGO events
END:VEVENT
BEGIN:VEVENT
DTSTART;VALUE=DATE:20160425
DTEND;VALUE=DATE:20160426
DTSTAMP:20260415T022153
CREATED:20160303T165638Z
LAST-MODIFIED:20160303T180434Z
UID:2417-1461542400-1461628799@northshoreago.org
SUMMARY:Spring Conclave (First Congregational\, St. Luke's\, Music Institute\, Evanston): Celebrating Ernest Skinner (1866-1960)
DESCRIPTION:Monday\, April 25 at First Congregational Church\, 1445 Hinman\, Evanston: \n8:30 am coffee; 9:15 am lecture by Stephen Schnurr “Skinner in Chicago”; 10:45 am recital by Andrew Schaeffer; 12 noon box lunch $10 reservation required; 1:15 pm lecture by Joyce Robinson “Skinner and The Diapason” \n2:45-4:15 pm open console at St. Luke’s Episcopal Church\, 939 Hinman Avenue\, Evanston and Music Institute\, 1490 Chicago Avenue\, Evanston \n5 pm recital by David Jonies at First Congregational\, Evanston.
URL:https://northshoreago.org/event/spring-conclave-first-congregational-celebrating-ernest-skinner-1866-1960-2/
LOCATION:First Congregational\, Music Institute\, St. Luke’s
CATEGORIES:NSAGO events
END:VEVENT
BEGIN:VEVENT
DTSTART;TZID=America/Chicago:20160424T190000
DTEND;TZID=America/Chicago:20160424T210000
DTSTAMP:20260415T022153
CREATED:20151025T203053Z
LAST-MODIFIED:20160303T180050Z
UID:2018-1461524400-1461531600@northshoreago.org
SUMMARY:Spring Conclave (St. Luke's Evanston): Celebrating Ernest Skinner (1866-1960)
DESCRIPTION:Bella Voce concert of Anglican repertorie with organ at St. Luke’s Episcopal Church\, 939 Hinman Avenue\, Evanston 60201; reception following hosted by NSAGO.  Sponsored by The Diapason; the Chicago\, Fox Valley and North Shore AGO chapters; and OHS Chicago-Midwest chapter. Contact: Christine Kraemer (ckraemer@stlukesevanston.org).
URL:https://northshoreago.org/event/spring-conclave-first-congregational-celebrating-ernest-skinner-1866-1960/
LOCATION:St. Luke’s Episcopal Church\, 939 Hinman Avenue\, Evanston\, IL\, 60202\, United States
CATEGORIES:NSAGO events
END:VEVENT
BEGIN:VEVENT
DTSTART;TZID=America/Chicago:20160228T150000
DTEND;TZID=America/Chicago:20160228T180000
DTSTAMP:20260415T022153
CREATED:20151025T201402Z
LAST-MODIFIED:20151025T201413Z
UID:2009-1456671600-1456682400@northshoreago.org
SUMMARY:Clergy-Musician Relationships\, Part 2: Rivals or a Team?
DESCRIPTION:Collegial collaboration between clergy and musicians is vital to the ministry of the church. Whether it is a change in worship style or in music\, significant challenges face both clergy and musicians. A panel discussion will offer ways to address and/or avoid conflict situations and suggest ways of building supportive relationships. Refreshments following. Recommended reading prior to event: Rivals or a Team? Clergy-Musician Relationships in the 21st Century by Eileen Guenther; MorningStar Music Publishers. Contact: Royce Eckhardt (royceeckhardt@sbcglobal.net).
URL:https://northshoreago.org/event/clergy-musician-relationships-part-2-rivals-or-a-team/
LOCATION:Garrett Seminary\, 2121 Sheridan Road\, Evanston\, IL\, 60201\, United States
CATEGORIES:NSAGO events
END:VEVENT
BEGIN:VEVENT
DTSTART;TZID=America/Chicago:20160103T170000
DTEND;TZID=America/Chicago:20160103T210000
DTSTAMP:20260415T022153
CREATED:20151022T213409Z
LAST-MODIFIED:20151022T213409Z
UID:2007-1451840400-1451854800@northshoreago.org
SUMMARY:Second Annual Epiphany Party
DESCRIPTION:Join us for an Epiphany party at our dean’s festively decorated home! Appetizers and wine at 5\, dinner at 6\, with program following of Christmas and holiday favorites. Contact: Jill Hunt (huntjills@aol.com).
URL:https://northshoreago.org/event/second-annual-epiphany-party/
LOCATION:North Shore AGO Contributors
CATEGORIES:NSAGO events
END:VEVENT
BEGIN:VEVENT
DTSTART;TZID=America/Chicago:20151107T093000
DTEND;TZID=America/Chicago:20151107T121500
DTSTAMP:20260415T022153
CREATED:20151022T212608Z
LAST-MODIFIED:20151025T202302Z
UID:2006-1446888600-1446898500@northshoreago.org
SUMMARY:Beginning on the Right Foot
DESCRIPTION:We will begin at 9:30am downstairs in Elliott Hall with refreshments. The workshop\, 10am-12:15pm in Elliott Chapel\, will be taught by Maggie Kemper. Richard Enright’s book\, Fundamentals of Organ Playing\, will be used. Participants will play hymns and organ repertoire. Attendees are encouraged to bring along their own copies of Dr. Enright’s book (which can be purchased at OHS’s Online Catalog\, item #99-1277\, at the cost of $24.99). Parking available off Grant Street through the McGaw entrance. Contact: Sharon Peterson (speterson@igc.com).
URL:https://northshoreago.org/event/beginning-on-the-right-foot/
LOCATION:Elliott Chapel\, 3131 Simpson Street\, Evanston\, IL\, 60201\, United States
CATEGORIES:NSAGO events
END:VEVENT
END:VCALENDAR