BEGIN:VCALENDAR
VERSION:2.0
PRODID:-//North Shore Chapter of the American Guild of Organists - ECPv6.15.20//NONSGML v1.0//EN
CALSCALE:GREGORIAN
METHOD:PUBLISH
X-ORIGINAL-URL:https://northshoreago.org
X-WR-CALDESC:Events for North Shore Chapter of the American Guild of Organists
REFRESH-INTERVAL;VALUE=DURATION:PT1H
X-Robots-Tag:noindex
X-PUBLISHED-TTL:PT1H
BEGIN:VTIMEZONE
TZID:America/Chicago
BEGIN:DAYLIGHT
TZOFFSETFROM:-0600
TZOFFSETTO:-0500
TZNAME:CDT
DTSTART:20140309T080000
END:DAYLIGHT
BEGIN:STANDARD
TZOFFSETFROM:-0500
TZOFFSETTO:-0600
TZNAME:CST
DTSTART:20141102T070000
END:STANDARD
BEGIN:DAYLIGHT
TZOFFSETFROM:-0600
TZOFFSETTO:-0500
TZNAME:CDT
DTSTART:20150308T080000
END:DAYLIGHT
BEGIN:STANDARD
TZOFFSETFROM:-0500
TZOFFSETTO:-0600
TZNAME:CST
DTSTART:20151101T070000
END:STANDARD
BEGIN:DAYLIGHT
TZOFFSETFROM:-0600
TZOFFSETTO:-0500
TZNAME:CDT
DTSTART:20160313T080000
END:DAYLIGHT
BEGIN:STANDARD
TZOFFSETFROM:-0500
TZOFFSETTO:-0600
TZNAME:CST
DTSTART:20161106T070000
END:STANDARD
BEGIN:DAYLIGHT
TZOFFSETFROM:-0600
TZOFFSETTO:-0500
TZNAME:CDT
DTSTART:20170312T080000
END:DAYLIGHT
BEGIN:STANDARD
TZOFFSETFROM:-0500
TZOFFSETTO:-0600
TZNAME:CST
DTSTART:20171105T070000
END:STANDARD
END:VTIMEZONE
BEGIN:VEVENT
DTSTART;TZID=America/Chicago:20161112T090000
DTEND;TZID=America/Chicago:20161112T120000
DTSTAMP:20260422T012310
CREATED:20160531T194614Z
LAST-MODIFIED:20160531T200003Z
UID:2650-1478941200-1478952000@northshoreago.org
SUMMARY:CREATIVE HYMN PLAYING and ADAPTING PIANO MUSIC FOR ORGAN WORKSHOPS
DESCRIPTION:Saturday\, November 12\, 2017\, 9:00am-noon\nFirst Presbyterian Church of Arlington Heights\n302 N. Dunton Street\, Arlington Heights\, IL 60004\nCREATIVE HYMN PLAYING\nADAPTING PIANO MUSIC FOR THE ORGAN\nOne of our most important jobs as organists is to encourage congregational singing with hymn playing that enhances the lyrics of hymns. In this workshop you’ll find tips on doing that through phrasing\, registration\, alternate harmonizations and modulations. Secondly\, as organists\, we’re all called on frequently to play music on the organ that was written for piano\, or transcribed for piano from an orchestral score. In this workshop\, you’ll hear tips on effectively adapting piano music—anthems\, solos\, orchestral transcriptions — to the organ. Contact: Sharon Peterson (speterson@igc.org). \n 
URL:https://northshoreago.org/event/creative-hymn-playing-and-adapting-piano-music-for-organ-workshops/
LOCATION:First Presbyterian Church of Arlington Heights\, 302 N. Dunton Ave.\, Arlington Heights\, IL\, 60004\, United States
CATEGORIES:NSAGO events
END:VEVENT
BEGIN:VEVENT
DTSTART;TZID=America/Chicago:20161007T193000
DTEND;TZID=America/Chicago:20161007T213000
DTSTAMP:20260422T012310
CREATED:20160531T193240Z
LAST-MODIFIED:20160531T200027Z
UID:2647-1475868600-1475875800@northshoreago.org
SUMMARY:VINCENT DUBOIS IN RECITAL
DESCRIPTION:Friday October 7\, 2016\, 7:30pm\nSt. Luke’s Episcopal Church\n939 Hinman Avenue\, Evanston\, IL 60202\nVINCENT DUBOIS IN RECITAL \nCome hear Vincent Dubois\, organist at Notre Dame cathedral in Paris\, on the magnificent Skinner Opus 327. Newly appointed as one of the three titular organists at Notre-Dame Cathedral in Paris\, France\, Dubois has performed in major concert venues throughout Europe\, North America\, Asia and the Pacific\, and as guest soloist with the Philadelphia Orchestra\, the Los Angeles Philharmonic\, the Hong-Kong Philharmonic\, the Orchestre Philharmonique of Radio France\, the Orchestre National de France\, the Orquesta Filharmonica del Gran Canaria\, the Orchestre de Picardie\, and the Orchestre de Bretagne.  Contact: Evan Duvall (mevanduvall@comcast.net ). \n  \n 
URL:https://northshoreago.org/event/vincent-dubois-in-recital/
LOCATION:St. Luke’s Episcopal Church\, 939 Hinman Avenue\, Evanston\, IL\, 60202\, United States
CATEGORIES:NSAGO events
ATTACH;FMTTYPE=image/png:https://northshoreago.org/wp-content/uploads/2016/05/Logo.png
END:VEVENT
BEGIN:VEVENT
DTSTART;TZID=America/Chicago:20160522T160000
DTEND;TZID=America/Chicago:20160522T200000
DTSTAMP:20260422T012310
CREATED:20151025T204038Z
LAST-MODIFIED:20160331T200414Z
UID:2023-1463932800-1463947200@northshoreago.org
SUMMARY:Pentecost Celebration and Dinner
DESCRIPTION:Join us for our annual closing member’s recital of Pentecost and Trinity music for organ\, and a delicious dinner at nearby restaurant Gusto afterward. Contact: Laurie Stivers (stiversl@ameritech.net).
URL:https://northshoreago.org/event/pentecost-celebration-and-dinner/
LOCATION:Trinity United Methodist Church\, 1024 Lake Avenue\, Wilmette\, IL\, 60091\, United States
CATEGORIES:NSAGO events
END:VEVENT
BEGIN:VEVENT
DTSTART;VALUE=DATE:20160425
DTEND;VALUE=DATE:20160426
DTSTAMP:20260422T012310
CREATED:20160303T165638Z
LAST-MODIFIED:20160303T180434Z
UID:2417-1461542400-1461628799@northshoreago.org
SUMMARY:Spring Conclave (First Congregational\, St. Luke's\, Music Institute\, Evanston): Celebrating Ernest Skinner (1866-1960)
DESCRIPTION:Monday\, April 25 at First Congregational Church\, 1445 Hinman\, Evanston: \n8:30 am coffee; 9:15 am lecture by Stephen Schnurr “Skinner in Chicago”; 10:45 am recital by Andrew Schaeffer; 12 noon box lunch $10 reservation required; 1:15 pm lecture by Joyce Robinson “Skinner and The Diapason” \n2:45-4:15 pm open console at St. Luke’s Episcopal Church\, 939 Hinman Avenue\, Evanston and Music Institute\, 1490 Chicago Avenue\, Evanston \n5 pm recital by David Jonies at First Congregational\, Evanston.
URL:https://northshoreago.org/event/spring-conclave-first-congregational-celebrating-ernest-skinner-1866-1960-2/
LOCATION:First Congregational\, Music Institute\, St. Luke’s
CATEGORIES:NSAGO events
END:VEVENT
BEGIN:VEVENT
DTSTART;TZID=America/Chicago:20160424T190000
DTEND;TZID=America/Chicago:20160424T210000
DTSTAMP:20260422T012310
CREATED:20151025T203053Z
LAST-MODIFIED:20160303T180050Z
UID:2018-1461524400-1461531600@northshoreago.org
SUMMARY:Spring Conclave (St. Luke's Evanston): Celebrating Ernest Skinner (1866-1960)
DESCRIPTION:Bella Voce concert of Anglican repertorie with organ at St. Luke’s Episcopal Church\, 939 Hinman Avenue\, Evanston 60201; reception following hosted by NSAGO.  Sponsored by The Diapason; the Chicago\, Fox Valley and North Shore AGO chapters; and OHS Chicago-Midwest chapter. Contact: Christine Kraemer (ckraemer@stlukesevanston.org).
URL:https://northshoreago.org/event/spring-conclave-first-congregational-celebrating-ernest-skinner-1866-1960/
LOCATION:St. Luke’s Episcopal Church\, 939 Hinman Avenue\, Evanston\, IL\, 60202\, United States
CATEGORIES:NSAGO events
END:VEVENT
BEGIN:VEVENT
DTSTART;TZID=America/Chicago:20160228T150000
DTEND;TZID=America/Chicago:20160228T180000
DTSTAMP:20260422T012310
CREATED:20151025T201402Z
LAST-MODIFIED:20151025T201413Z
UID:2009-1456671600-1456682400@northshoreago.org
SUMMARY:Clergy-Musician Relationships\, Part 2: Rivals or a Team?
DESCRIPTION:Collegial collaboration between clergy and musicians is vital to the ministry of the church. Whether it is a change in worship style or in music\, significant challenges face both clergy and musicians. A panel discussion will offer ways to address and/or avoid conflict situations and suggest ways of building supportive relationships. Refreshments following. Recommended reading prior to event: Rivals or a Team? Clergy-Musician Relationships in the 21st Century by Eileen Guenther; MorningStar Music Publishers. Contact: Royce Eckhardt (royceeckhardt@sbcglobal.net).
URL:https://northshoreago.org/event/clergy-musician-relationships-part-2-rivals-or-a-team/
LOCATION:Garrett Seminary\, 2121 Sheridan Road\, Evanston\, IL\, 60201\, United States
CATEGORIES:NSAGO events
END:VEVENT
BEGIN:VEVENT
DTSTART;TZID=America/Chicago:20160103T170000
DTEND;TZID=America/Chicago:20160103T210000
DTSTAMP:20260422T012310
CREATED:20151022T213409Z
LAST-MODIFIED:20151022T213409Z
UID:2007-1451840400-1451854800@northshoreago.org
SUMMARY:Second Annual Epiphany Party
DESCRIPTION:Join us for an Epiphany party at our dean’s festively decorated home! Appetizers and wine at 5\, dinner at 6\, with program following of Christmas and holiday favorites. Contact: Jill Hunt (huntjills@aol.com).
URL:https://northshoreago.org/event/second-annual-epiphany-party/
LOCATION:North Shore AGO Contributors
CATEGORIES:NSAGO events
END:VEVENT
BEGIN:VEVENT
DTSTART;TZID=America/Chicago:20151107T093000
DTEND;TZID=America/Chicago:20151107T121500
DTSTAMP:20260422T012310
CREATED:20151022T212608Z
LAST-MODIFIED:20151025T202302Z
UID:2006-1446888600-1446898500@northshoreago.org
SUMMARY:Beginning on the Right Foot
DESCRIPTION:We will begin at 9:30am downstairs in Elliott Hall with refreshments. The workshop\, 10am-12:15pm in Elliott Chapel\, will be taught by Maggie Kemper. Richard Enright’s book\, Fundamentals of Organ Playing\, will be used. Participants will play hymns and organ repertoire. Attendees are encouraged to bring along their own copies of Dr. Enright’s book (which can be purchased at OHS’s Online Catalog\, item #99-1277\, at the cost of $24.99). Parking available off Grant Street through the McGaw entrance. Contact: Sharon Peterson (speterson@igc.com).
URL:https://northshoreago.org/event/beginning-on-the-right-foot/
LOCATION:Elliott Chapel\, 3131 Simpson Street\, Evanston\, IL\, 60201\, United States
CATEGORIES:NSAGO events
END:VEVENT
END:VCALENDAR