BEGIN:VCALENDAR
VERSION:2.0
PRODID:-//North Shore Chapter of the American Guild of Organists - ECPv6.15.20//NONSGML v1.0//EN
CALSCALE:GREGORIAN
METHOD:PUBLISH
X-WR-CALNAME:North Shore Chapter of the American Guild of Organists
X-ORIGINAL-URL:https://northshoreago.org
X-WR-CALDESC:Events for North Shore Chapter of the American Guild of Organists
REFRESH-INTERVAL;VALUE=DURATION:PT1H
X-Robots-Tag:noindex
X-PUBLISHED-TTL:PT1H
BEGIN:VTIMEZONE
TZID:America/Chicago
BEGIN:DAYLIGHT
TZOFFSETFROM:-0600
TZOFFSETTO:-0500
TZNAME:CDT
DTSTART:20230312T080000
END:DAYLIGHT
BEGIN:STANDARD
TZOFFSETFROM:-0500
TZOFFSETTO:-0600
TZNAME:CST
DTSTART:20231105T070000
END:STANDARD
BEGIN:DAYLIGHT
TZOFFSETFROM:-0600
TZOFFSETTO:-0500
TZNAME:CDT
DTSTART:20240310T080000
END:DAYLIGHT
BEGIN:STANDARD
TZOFFSETFROM:-0500
TZOFFSETTO:-0600
TZNAME:CST
DTSTART:20241103T070000
END:STANDARD
BEGIN:DAYLIGHT
TZOFFSETFROM:-0600
TZOFFSETTO:-0500
TZNAME:CDT
DTSTART:20250309T080000
END:DAYLIGHT
BEGIN:STANDARD
TZOFFSETFROM:-0500
TZOFFSETTO:-0600
TZNAME:CST
DTSTART:20251102T070000
END:STANDARD
END:VTIMEZONE
BEGIN:VEVENT
DTSTART;TZID=America/Chicago:20240116T190000
DTEND;TZID=America/Chicago:20240116T203000
DTSTAMP:20260424T065510
CREATED:20231230T145634Z
LAST-MODIFIED:20231230T145634Z
UID:10074-1705431600-1705437000@northshoreago.org
SUMMARY:You Got the Interview…Now What?
DESCRIPTION:Tuesday\, January 16th\, 7pm EDT\nYou Got the Interview…Now What?\nPresented by the Committee on Career Development and Support \nFollowing a series of webinars on the AGO’s new Employing Musicians in Religious Institutions handbook\, the National Committee on Career Development and Support presents tips and tricks for nailing the job interview. In addition to short mock interviews with some typical tough questions presented by the committee\, audience members will have the opportunity to ask questions in a Q&A session with our committee panel. Participants at any point in their careers can benefit from this refresher on job interview skills. \nRegister Online: https://us02web.zoom.us/webinar/register/WN_uaB5waJ4QdGdQLQLgQgwVA#/registration
URL:https://northshoreago.org/event/you-got-the-interviewnow-what/
CATEGORIES:AGO Events,Webinar
ATTACH;FMTTYPE=image/png:https://northshoreago.org/wp-content/uploads/2023/12/AGO-Weekend-Organist-Webinar-1.png
END:VEVENT
BEGIN:VEVENT
DTSTART;TZID=America/Chicago:20240108T180000
DTEND;TZID=America/Chicago:20240108T203000
DTSTAMP:20260424T065510
CREATED:20231230T145136Z
LAST-MODIFIED:20231230T145906Z
UID:10070-1704736800-1704745800@northshoreago.org
SUMMARY:The Weekend Organist: New Year’s Resolutions You Can Keep in 2024
DESCRIPTION:On Monday\, January 8th\, 6pm CDT (7pm EDT)\, presenter J.W. Arnold\, Marketing & Communications Specialist with AGO national headquarters\, will offer “The Weekend Organist: New Year’s Resolutions You Can Keep in 2024\,” covering valuable music resolutions and strategies to keep them. All registrants receive a free download of an accessible new organ work by John Dixon\, as well as a tip sheet for 2024 resolution strategies. \nRegister Online: https://us02web.zoom.us/webinar/register/WN_rL87XE50TrucoFXvqYFq3Q \nFor more information on upcoming AGO national events and webinars: \nWebinars\, Recitals\, and Workshops
URL:https://northshoreago.org/event/the-weekend-organist-new-years-resolutions-you-can-keep-in-2024/
CATEGORIES:AGO Events,Webinar
ATTACH;FMTTYPE=image/png:https://northshoreago.org/wp-content/uploads/2023/12/AGO-Weekend-Organist-Webinar-2.png
END:VEVENT
END:VCALENDAR