BEGIN:VCALENDAR
VERSION:2.0
PRODID:-//North Shore Chapter of the American Guild of Organists - ECPv6.15.20//NONSGML v1.0//EN
CALSCALE:GREGORIAN
METHOD:PUBLISH
X-ORIGINAL-URL:https://northshoreago.org
X-WR-CALDESC:Events for North Shore Chapter of the American Guild of Organists
REFRESH-INTERVAL;VALUE=DURATION:PT1H
X-Robots-Tag:noindex
X-PUBLISHED-TTL:PT1H
BEGIN:VTIMEZONE
TZID:America/Chicago
BEGIN:DAYLIGHT
TZOFFSETFROM:-0600
TZOFFSETTO:-0500
TZNAME:CDT
DTSTART:20150308T080000
END:DAYLIGHT
BEGIN:STANDARD
TZOFFSETFROM:-0500
TZOFFSETTO:-0600
TZNAME:CST
DTSTART:20151101T070000
END:STANDARD
BEGIN:DAYLIGHT
TZOFFSETFROM:-0600
TZOFFSETTO:-0500
TZNAME:CDT
DTSTART:20160313T080000
END:DAYLIGHT
BEGIN:STANDARD
TZOFFSETFROM:-0500
TZOFFSETTO:-0600
TZNAME:CST
DTSTART:20161106T070000
END:STANDARD
BEGIN:DAYLIGHT
TZOFFSETFROM:-0600
TZOFFSETTO:-0500
TZNAME:CDT
DTSTART:20170312T080000
END:DAYLIGHT
BEGIN:STANDARD
TZOFFSETFROM:-0500
TZOFFSETTO:-0600
TZNAME:CST
DTSTART:20171105T070000
END:STANDARD
END:VTIMEZONE
BEGIN:VEVENT
DTSTART;TZID=America/Chicago:20160404T183000
DTEND;TZID=America/Chicago:20160404T200000
DTSTAMP:20260422T161107
CREATED:20160331T185040Z
LAST-MODIFIED:20160331T193014Z
UID:2455-1459794600-1459800000@northshoreago.org
SUMMARY:Performer's Certificate Organ Recital\, Joshua Ring
DESCRIPTION:SCHOOL OF MUSIC\nNORTHERN ILLINOIS UNIVERSITY\n551 Lucinda Avenue\nDeKalb\, IL 60115\nMonday\, April 4\, 6:30pm\nPerformer’s Certificate Organ Recital\nJoshua Ring\nWorks by Bach\, deGrigny\, Boehm\, Brahms\, Franck\, and Reger.  Organ by Martin Ott\, Op. 17 (1983).  Free admission.  For more information\, contact James R. Brown at 815-753-7975.
URL:https://northshoreago.org/event/performers-certificate-organ-recitaljoshua-ring/
LOCATION:SCHOOL OF MUSIC-Northern Illinois University\, 551 Lucinda Avenue\, DeKalb\, IL\, 60115\, United States
ATTACH;FMTTYPE=image/jpeg:https://northshoreago.org/wp-content/uploads/2016/03/Organ-Events-in-Chicagoland-e1464970164583.jpg
END:VEVENT
BEGIN:VEVENT
DTSTART;TZID=America/Chicago:20160404T193000
DTEND;TZID=America/Chicago:20160404T210000
DTSTAMP:20260422T161107
CREATED:20160331T190010Z
LAST-MODIFIED:20160331T193125Z
UID:2457-1459798200-1459803600@northshoreago.org
SUMMARY:Performance by Christ Church Cathedral Choir/Oxford\, Stephen Darlington\, Director
DESCRIPTION:EMMANUEL EPISCOPAL CHURCH\n203 S Kensington\nLaGrange\, IL 60525\nMonday\, April 4\, 2016\, 7:30 PM\nPerformance by Christ Church Cathedral Choir/Oxford\nStephen Darlington\, Director\nConcert will include sacred choral masterpieces including music by Tallis\, Parsons\, Byrd\, Grieg and Hadley. Tickets $41.50 purchased through the parish website’s “events” page eeclg.org or by phone: 708/352-1275 x 0
URL:https://northshoreago.org/event/performance-by-christ-church-cathedral-choiroxfordstephen-darlington-director/
LOCATION:EMMANUEL EPISCOPAL CHURCH\, 203 S Kensington\, LaGrange\, IL\, 60525\, United States
ATTACH;FMTTYPE=image/jpeg:https://northshoreago.org/wp-content/uploads/2016/03/Organ-Events-in-Chicagoland-e1464970164583.jpg
END:VEVENT
BEGIN:VEVENT
DTSTART;TZID=America/Chicago:20160405T193000
DTEND;TZID=America/Chicago:20160405T210000
DTSTAMP:20260422T161107
CREATED:20160331T190353Z
LAST-MODIFIED:20160331T192913Z
UID:2459-1459884600-1459890000@northshoreago.org
SUMMARY:Performance by Christ Church Cathedral Choir/Oxford\, Stephen Darlington\, Director
DESCRIPTION:ST. PAUL & THE REDEEMER EPISCOPAL CHURCH\n4945 S Dorchester Ave\nChicago\, IL 60615\nTuesday\, April 5\, 2016\, 7:30 PM\nPerformance by Christ Church Cathedral Choir/Oxford\nStephen Darlington\, Director\nConcert will include sacred choral masterpieces including music by Tallis\, Parsons\, Byrd\, Grieg and Hadley.  Tickets $43.43 purchased through the parish website’s “events” page www.sp-r.org or by phone: 773/.624.3185 x 223
URL:https://northshoreago.org/event/performance-by-christ-church-cathedral-choiroxfordstephen-darlington-director-2/
LOCATION:ST. PAUL & THE REDEEMER EPISCOPAL CHURCH\, 4945 S Dorchester Ave\, Chicago\, IL\, 60615\, United States
ATTACH;FMTTYPE=image/jpeg:https://northshoreago.org/wp-content/uploads/2016/03/Organ-Events-in-Chicagoland-e1464970164583.jpg
END:VEVENT
BEGIN:VEVENT
DTSTART;TZID=America/Chicago:20160410T140000
DTEND;TZID=America/Chicago:20160410T153000
DTSTAMP:20260422T161107
CREATED:20160331T190645Z
LAST-MODIFIED:20160331T192609Z
UID:2462-1460296800-1460302200@northshoreago.org
SUMMARY:"French Connections: Music of Guilmant\, Ravel\, and Widor"\, Chicago Gargoyle Brass and Organ Ensemble. Phillip Kloeckner\, organist
DESCRIPTION:ST. PAULS UNITED CHURCH OF CHRIST\n2335 N. Orchard St.\nChicago\, IL 60614\nSunday\, April 10\, 2016\, 2 p.m.\n“French Connections: Music of Guilmant\, Ravel\, and Widor”\nChicago Gargoyle Brass and Organ Ensemble. Phillip Kloeckner\, organist\nProgram features the Chicago premiere of an organ and brass arrangement of late-Romantic French composer Félix-Alexandre Guilmant’s Symphony No. 1\, Op. 42\, for organ and orchestra. For more information\, visit gargoylebrass.com.
URL:https://northshoreago.org/event/french-connections-music-of-guilmant-ravel-and-widorchicago-gargoyle-brass-and-organ-ensemble-phillip-kloeckner-organist/
LOCATION:ST. PAULS UNITED CHURCH OF CHRIST\, 2335 N. Orchard St.\, Chicago\, IL\, 60614\, United States
ATTACH;FMTTYPE=image/jpeg:https://northshoreago.org/wp-content/uploads/2016/03/Organ-Events-in-Chicagoland-e1464970164583.jpg
END:VEVENT
BEGIN:VEVENT
DTSTART;TZID=America/Chicago:20160417T150000
DTEND;TZID=America/Chicago:20160417T163000
DTSTAMP:20260422T161107
CREATED:20160331T190901Z
LAST-MODIFIED:20160331T193356Z
UID:2464-1460905200-1460910600@northshoreago.org
SUMMARY:THIRD SUNDAY @3 ORGAN CONCERT SERIES\, Derek E. Nickels\, organist
DESCRIPTION:MADONNA DELLA STRADA CHAPEL THIRD SUNDAY @3 ORGAN CONCERT SERIES\n1032 W Sheridan Road\nChicago\, IL 60660\nApril 17\, 2016\, 3:00pm\nwww.luc.edu/organ\nDerek E. Nickels\, organist\nRound Lake Beach\, IL\nFree Admission and Free parking in the main garage.
URL:https://northshoreago.org/event/third-sunday-3-organ-concert-seriesderek-e-nickels-organist/
LOCATION:MADONNA DELLA STRADA CHAPEL\, 1032 W Sheridan Road\, Chicago\, IL\, 60660\, United States
ATTACH;FMTTYPE=image/jpeg:https://northshoreago.org/wp-content/uploads/2016/03/Organ-Events-in-Chicagoland-e1464970164583.jpg
END:VEVENT
BEGIN:VEVENT
DTSTART;TZID=America/Chicago:20160423T170000
DTEND;TZID=America/Chicago:20160423T183000
DTSTAMP:20260422T161107
CREATED:20160331T191349Z
LAST-MODIFIED:20160331T193558Z
UID:2467-1461430800-1461436200@northshoreago.org
SUMMARY:Graduate Organ Recital\, Marianne Kim
DESCRIPTION:SCHOOL OF MUSIC\nNORTHERN ILLINOIS UNIVERSITY\n551 Lucinda Avenue\nDeKalb\, IL 60115\nSaturday\, April 23\, 5:00pm\nGraduate Organ Recital\nMarianne Kim\nWorks by Buxtehude\, Bach\, Schumann\, Widor\, Demessieux\, and Messiaen. Organ by Martin Ott\, Op. 17 (1983).  Free admission.  For more information\, contact James R. Brown at 815-753-7975.
URL:https://northshoreago.org/event/graduate-organ-recitalmarianne-kim/
LOCATION:﻿SCHOOL OF MUSIC<br>NORTHERN ILLINOIS UNIVERSITY\, 551 Lucinda Avenue\, DeKalb\, 60115
ATTACH;FMTTYPE=image/jpeg:https://northshoreago.org/wp-content/uploads/2016/03/Organ-Events-in-Chicagoland-e1464970164583.jpg
END:VEVENT
BEGIN:VEVENT
DTSTART;TZID=America/Chicago:20160424T160000
DTEND;TZID=America/Chicago:20160424T173000
DTSTAMP:20260422T161107
CREATED:20160331T191605Z
LAST-MODIFIED:20160331T193653Z
UID:2469-1461513600-1461519000@northshoreago.org
SUMMARY:ORGAN INSTALLATION CONCERT SERIES\, Raul Prieto Ramirez
DESCRIPTION:ST. MARK’S EPISCOPAL CHURCH ORGAN INSTALLATION CONCERT SERIES\n393 N. Main Street\n Glen Ellyn\, IL 60137\n Sunday\, April 24\, 2016\, 4:00pm\nRaul Prieto Ramirez\, Barcelona
URL:https://northshoreago.org/event/organ-installation-concert-seriesraul-prieto-ramirez/
LOCATION:ST. MARK’S EPISCOPAL CHURCH\, 393 n Main St\, Glen Ellyn\, I\, 60137\, United States
ATTACH;FMTTYPE=image/jpeg:https://northshoreago.org/wp-content/uploads/2016/03/Organ-Events-in-Chicagoland-e1464970164583.jpg
END:VEVENT
BEGIN:VEVENT
DTSTART;TZID=America/Chicago:20160424T190000
DTEND;TZID=America/Chicago:20160424T203000
DTSTAMP:20260422T161107
CREATED:20160331T191840Z
LAST-MODIFIED:20160331T193754Z
UID:2471-1461524400-1461529800@northshoreago.org
SUMMARY:Senior Organ Recital\, Matthew Doran
DESCRIPTION:SCHOOL OF MUSIC\nNORTHERN ILLINOIS UNIVERSITY\n551 Lucinda Avenue\nDeKalb\, IL 60115\nSunday\, April 24\, 7:00pm\n Senior Organ Recital\nMatthew Doran\nWorks by Bach\, Part\, Bolcom\, and Messiaen. Organ by Martin Ott\, Op. 17 (1983).  Free admission.  For more information\, contact James R. Brown at 815-753-7975.
URL:https://northshoreago.org/event/senior-organ-recitalmatthew-doran/
LOCATION:SCHOOL OF MUSIC<br>NORTHERN ILLINOIS UNIVERSITY\, 551 Lucinda Avenue\, DeKalb\, IL\, 60115\, United States
ATTACH;FMTTYPE=image/jpeg:https://northshoreago.org/wp-content/uploads/2016/03/Organ-Events-in-Chicagoland-e1464970164583.jpg
END:VEVENT
BEGIN:VEVENT
DTSTART;TZID=America/Chicago:20160424T190000
DTEND;TZID=America/Chicago:20160424T210000
DTSTAMP:20260422T161107
CREATED:20151025T203053Z
LAST-MODIFIED:20160303T180050Z
UID:2018-1461524400-1461531600@northshoreago.org
SUMMARY:Spring Conclave (St. Luke's Evanston): Celebrating Ernest Skinner (1866-1960)
DESCRIPTION:Bella Voce concert of Anglican repertorie with organ at St. Luke’s Episcopal Church\, 939 Hinman Avenue\, Evanston 60201; reception following hosted by NSAGO.  Sponsored by The Diapason; the Chicago\, Fox Valley and North Shore AGO chapters; and OHS Chicago-Midwest chapter. Contact: Christine Kraemer (ckraemer@stlukesevanston.org).
URL:https://northshoreago.org/event/spring-conclave-first-congregational-celebrating-ernest-skinner-1866-1960/
LOCATION:St. Luke’s Episcopal Church\, 939 Hinman Avenue\, Evanston\, IL\, 60202\, United States
CATEGORIES:NSAGO events
END:VEVENT
BEGIN:VEVENT
DTSTART;VALUE=DATE:20160425
DTEND;VALUE=DATE:20160426
DTSTAMP:20260422T161108
CREATED:20160303T165638Z
LAST-MODIFIED:20160303T180434Z
UID:2417-1461542400-1461628799@northshoreago.org
SUMMARY:Spring Conclave (First Congregational\, St. Luke's\, Music Institute\, Evanston): Celebrating Ernest Skinner (1866-1960)
DESCRIPTION:Monday\, April 25 at First Congregational Church\, 1445 Hinman\, Evanston: \n8:30 am coffee; 9:15 am lecture by Stephen Schnurr “Skinner in Chicago”; 10:45 am recital by Andrew Schaeffer; 12 noon box lunch $10 reservation required; 1:15 pm lecture by Joyce Robinson “Skinner and The Diapason” \n2:45-4:15 pm open console at St. Luke’s Episcopal Church\, 939 Hinman Avenue\, Evanston and Music Institute\, 1490 Chicago Avenue\, Evanston \n5 pm recital by David Jonies at First Congregational\, Evanston.
URL:https://northshoreago.org/event/spring-conclave-first-congregational-celebrating-ernest-skinner-1866-1960-2/
LOCATION:First Congregational\, Music Institute\, St. Luke’s
CATEGORIES:NSAGO events
END:VEVENT
BEGIN:VEVENT
DTSTART;TZID=America/Chicago:20160425T133000
DTEND;TZID=America/Chicago:20160425T143000
DTSTAMP:20260422T161108
CREATED:20160331T192058Z
LAST-MODIFIED:20160331T193901Z
UID:2473-1461591000-1461594600@northshoreago.org
SUMMARY:PRESBYTERIAN HOMES MONDAY RECITAL SERIES\, Timothy Spelbring
DESCRIPTION:PRESBYTERIAN HOMES MONDAY RECITAL SERIES\nElliott Chapel\n3131 Simpson Street\nEvanston\, IL 60201\nApril 25\, 1:30 p.m.\nTimothy Spelbring\nMount Prospect\, Illinois
URL:https://northshoreago.org/event/presbyterian-homes-monday-recital-seriestimothy-spelbring/
LOCATION:Elliott Chapel\, 3131 Simpson Street\, Evanston\, IL\, 60201\, United States
ATTACH;FMTTYPE=image/jpeg:https://northshoreago.org/wp-content/uploads/2016/03/Organ-Events-in-Chicagoland-e1464970164583.jpg
END:VEVENT
BEGIN:VEVENT
DTSTART;TZID=America/Chicago:20160430T193000
DTEND;TZID=America/Chicago:20160430T210000
DTSTAMP:20260422T161108
CREATED:20160331T192343Z
LAST-MODIFIED:20160331T194011Z
UID:2475-1462044600-1462050000@northshoreago.org
SUMMARY:"French Connections: Music of Guilmant\, Ravel\, and Widor"\, Chicago Gargoyle Brass and Organ Ensemble. Phillip Kloeckner\, organist
DESCRIPTION:ST. JOHN CANTIUS CHURCH\n825 N. Carpenter St.\nChicago\, IL\, 60642\nSaturday\, April 30\, 2016\, 7:30 p.m.\n“French Connections: Music of Guilmant\, Ravel\, and Widor”\nChicago Gargoyle Brass and Organ Ensemble. Phillip Kloeckner\, organist\nProgram features a new organ and brass arrangement of late-Romantic French composer Félix-Alexandre Guilmant’s Symphony No. 1\, Op. 42\, for organ and orchestra. For more information\, visit gargoylebrass.com.
URL:https://northshoreago.org/event/french-connections-music-of-guilmant-ravel-and-widorchicago-gargoyle-brass-and-organ-ensemble-phillip-kloeckner-organist-2/
LOCATION:ST. JOHN CANTIUS CHURCH\, 825 N. Carpenter St.\, Chicago\, IL\, 60642\, United States
ATTACH;FMTTYPE=image/jpeg:https://northshoreago.org/wp-content/uploads/2016/03/Organ-Events-in-Chicagoland-e1464970164583.jpg
END:VEVENT
END:VCALENDAR