BEGIN:VCALENDAR
VERSION:2.0
PRODID:-//North Shore Chapter of the American Guild of Organists - ECPv6.15.20//NONSGML v1.0//EN
CALSCALE:GREGORIAN
METHOD:PUBLISH
X-WR-CALNAME:North Shore Chapter of the American Guild of Organists
X-ORIGINAL-URL:https://northshoreago.org
X-WR-CALDESC:Events for North Shore Chapter of the American Guild of Organists
REFRESH-INTERVAL;VALUE=DURATION:PT1H
X-Robots-Tag:noindex
X-PUBLISHED-TTL:PT1H
BEGIN:VTIMEZONE
TZID:America/Chicago
BEGIN:DAYLIGHT
TZOFFSETFROM:-0600
TZOFFSETTO:-0500
TZNAME:CDT
DTSTART:20150308T080000
END:DAYLIGHT
BEGIN:STANDARD
TZOFFSETFROM:-0500
TZOFFSETTO:-0600
TZNAME:CST
DTSTART:20151101T070000
END:STANDARD
BEGIN:DAYLIGHT
TZOFFSETFROM:-0600
TZOFFSETTO:-0500
TZNAME:CDT
DTSTART:20160313T080000
END:DAYLIGHT
BEGIN:STANDARD
TZOFFSETFROM:-0500
TZOFFSETTO:-0600
TZNAME:CST
DTSTART:20161106T070000
END:STANDARD
BEGIN:DAYLIGHT
TZOFFSETFROM:-0600
TZOFFSETTO:-0500
TZNAME:CDT
DTSTART:20170312T080000
END:DAYLIGHT
BEGIN:STANDARD
TZOFFSETFROM:-0500
TZOFFSETTO:-0600
TZNAME:CST
DTSTART:20171105T070000
END:STANDARD
END:VTIMEZONE
BEGIN:VEVENT
DTSTART;TZID=America/Chicago:20160821T150000
DTEND;TZID=America/Chicago:20160821T160000
DTSTAMP:20260422T054315
CREATED:20160718T162544Z
LAST-MODIFIED:20160718T172942Z
UID:2724-1471791600-1471795200@northshoreago.org
SUMMARY:LOYOLA UNIVERSITY SUMMER CELEBRITY ORGAN CONCERT SERIES
DESCRIPTION:Organ Concert Series\nLoyola University Chicago\nMadonna della Strada Chapel\n1032 W Sheridan Road\nChicago\, IL 60660\nAugust 21\, 2016\, 3:00pm\nRENÉE ANNE LOUPRETTE\, organist\nNew York\, NY \nFree parking\, enter off of West Sheridan Road and Kenmore Avenue. Free admission for all concerts\, no offering taken.  For more information\, call 773-508-2195.  For program\, stoplists\, and other information\, visit www.LUC.edu/organ. \n 
URL:https://northshoreago.org/event/loyola-university-summer-celebrity-organ-concert-series/
LOCATION:MADONNA DELLA STRADA CHAPEL\, 1032 W Sheridan Road\, Chicago\, IL\, 60660\, United States
CATEGORIES:Non-NSAGO events
END:VEVENT
END:VCALENDAR