BEGIN:VCALENDAR
VERSION:2.0
PRODID:-//North Shore Chapter of the American Guild of Organists - ECPv6.15.20//NONSGML v1.0//EN
CALSCALE:GREGORIAN
METHOD:PUBLISH
X-ORIGINAL-URL:https://northshoreago.org
X-WR-CALDESC:Events for North Shore Chapter of the American Guild of Organists
REFRESH-INTERVAL;VALUE=DURATION:PT1H
X-Robots-Tag:noindex
X-PUBLISHED-TTL:PT1H
BEGIN:VTIMEZONE
TZID:America/Chicago
BEGIN:DAYLIGHT
TZOFFSETFROM:-0600
TZOFFSETTO:-0500
TZNAME:CDT
DTSTART:20150308T080000
END:DAYLIGHT
BEGIN:STANDARD
TZOFFSETFROM:-0500
TZOFFSETTO:-0600
TZNAME:CST
DTSTART:20151101T070000
END:STANDARD
BEGIN:DAYLIGHT
TZOFFSETFROM:-0600
TZOFFSETTO:-0500
TZNAME:CDT
DTSTART:20160313T080000
END:DAYLIGHT
BEGIN:STANDARD
TZOFFSETFROM:-0500
TZOFFSETTO:-0600
TZNAME:CST
DTSTART:20161106T070000
END:STANDARD
BEGIN:DAYLIGHT
TZOFFSETFROM:-0600
TZOFFSETTO:-0500
TZNAME:CDT
DTSTART:20170312T080000
END:DAYLIGHT
BEGIN:STANDARD
TZOFFSETFROM:-0500
TZOFFSETTO:-0600
TZNAME:CST
DTSTART:20171105T070000
END:STANDARD
END:VTIMEZONE
BEGIN:VEVENT
DTSTART;TZID=America/Chicago:20161002T150000
DTEND;TZID=America/Chicago:20161002T170000
DTSTAMP:20260422T011612
CREATED:20160909T205534Z
LAST-MODIFIED:20160909T205534Z
UID:2783-1475420400-1475427600@northshoreago.org
SUMMARY:Diane Bish in Recital
DESCRIPTION:St. Catherine of Siena Church\n845 West Main Street (Higgins Road)\nWest Dundee\, IL 60118\nSunday\, October 2\, 3:00pm \nDiane Bish\, organist\nDedication of new 3-manual Allen organ.  For more information\, call 847.426.2217 \n  \n  \n 
URL:https://northshoreago.org/event/diane-bish-in-recital/
LOCATION:St. Catherine of Siena Church\, 845 W Main Street\, West Dundee\, IL\, 60118
CATEGORIES:Non-NSAGO events
END:VEVENT
BEGIN:VEVENT
DTSTART;TZID=America/Chicago:20161007T193000
DTEND;TZID=America/Chicago:20161007T213000
DTSTAMP:20260422T011612
CREATED:20160531T193240Z
LAST-MODIFIED:20160531T200027Z
UID:2647-1475868600-1475875800@northshoreago.org
SUMMARY:VINCENT DUBOIS IN RECITAL
DESCRIPTION:Friday October 7\, 2016\, 7:30pm\nSt. Luke’s Episcopal Church\n939 Hinman Avenue\, Evanston\, IL 60202\nVINCENT DUBOIS IN RECITAL \nCome hear Vincent Dubois\, organist at Notre Dame cathedral in Paris\, on the magnificent Skinner Opus 327. Newly appointed as one of the three titular organists at Notre-Dame Cathedral in Paris\, France\, Dubois has performed in major concert venues throughout Europe\, North America\, Asia and the Pacific\, and as guest soloist with the Philadelphia Orchestra\, the Los Angeles Philharmonic\, the Hong-Kong Philharmonic\, the Orchestre Philharmonique of Radio France\, the Orchestre National de France\, the Orquesta Filharmonica del Gran Canaria\, the Orchestre de Picardie\, and the Orchestre de Bretagne.  Contact: Evan Duvall (mevanduvall@comcast.net ). \n  \n 
URL:https://northshoreago.org/event/vincent-dubois-in-recital/
LOCATION:St. Luke’s Episcopal Church\, 939 Hinman Avenue\, Evanston\, IL\, 60202\, United States
CATEGORIES:NSAGO events
ATTACH;FMTTYPE=image/png:https://northshoreago.org/wp-content/uploads/2016/05/Logo.png
END:VEVENT
BEGIN:VEVENT
DTSTART;TZID=America/Chicago:20161016T150000
DTEND;TZID=America/Chicago:20161016T160000
DTSTAMP:20260422T011612
CREATED:20160718T164150Z
LAST-MODIFIED:20160718T172507Z
UID:2731-1476630000-1476633600@northshoreago.org
SUMMARY:LOYOLA UNIVERSITY THIRD SUNDAY ORGAN CONCERT SERIES
DESCRIPTION:Organ Concert Series\nLoyola University Chicago\nMadonna della Strada Chapel\n1032 W Sheridan Road Chicago\, IL 60660\nOctober 16\, 2016\, 3:00pm\nMARIANNE KIM\, organist\n \nFree parking\, enter off of West Sheridan Road and Kenmore Avenue. Free admission for all concerts\, no offering taken.  For more information\, call 773-508-2195.  For program\, stoplists\, and other information\, visit www.LUC.edu/organ.
URL:https://northshoreago.org/event/loyola-university-third-sunday-organ-concert-series-4/
LOCATION:MADONNA DELLA STRADA CHAPEL\, 1032 W Sheridan Road\, Chicago\, IL\, 60660\, United States
CATEGORIES:Non-NSAGO events
END:VEVENT
BEGIN:VEVENT
DTSTART;TZID=America/Chicago:20161024T133000
DTEND;TZID=America/Chicago:20161024T143000
DTSTAMP:20260422T011612
CREATED:20160718T152933Z
LAST-MODIFIED:20160718T153326Z
UID:2710-1477315800-1477319400@northshoreago.org
SUMMARY:ELLIOTT CHAPEL ORGAN RECITALS
DESCRIPTION:ELLIOTT CHAPEL\, PRESBYTERIAN HOMES\n3131 Simpson Street\nEvanston\, IL\, 60201\nMonday\, October 24\, 1:30pm\nSimone Gheller\nOconomowoc\, WI
URL:https://northshoreago.org/event/elliott-chapel-organ-recitals-2/
LOCATION:Elliott Chapel\, 3131 Simpson Street\, Evanston\, IL\, 60201\, United States
CATEGORIES:Non-NSAGO events
END:VEVENT
BEGIN:VEVENT
DTSTART;TZID=America/Chicago:20161029T170000
DTEND;TZID=America/Chicago:20161029T190000
DTSTAMP:20260422T011612
CREATED:20160916T035658Z
LAST-MODIFIED:20160916T035742Z
UID:2793-1477760400-1477767600@northshoreago.org
SUMMARY:All Hallow's Eve Service
DESCRIPTION:St. Matthew’s Episcopal Church\n5900 Seventh Ave.\nKenosha\, Wisconsin  53140 \nSaturday\, October 29th at 5:00\nOrgan Recital/All Hallow’s Eve Service\nBrian Schoettler\, Organist\, Kay Sutton\, Organist\, Diana Iorio\, Violinist\nFor more info contact Kay Sutton  kaysutton@comcast.net
URL:https://northshoreago.org/event/all-hallows-eve-service/
LOCATION:St Matthew’s Episcopal Church\, 5900 Seventh Ave\, Kenosha\, WI\, 53140\, United States
CATEGORIES:Non-NSAGO events
END:VEVENT
END:VCALENDAR