BEGIN:VCALENDAR
VERSION:2.0
PRODID:-//North Shore Chapter of the American Guild of Organists - ECPv6.15.20//NONSGML v1.0//EN
CALSCALE:GREGORIAN
METHOD:PUBLISH
X-WR-CALNAME:North Shore Chapter of the American Guild of Organists
X-ORIGINAL-URL:https://northshoreago.org
X-WR-CALDESC:Events for North Shore Chapter of the American Guild of Organists
REFRESH-INTERVAL;VALUE=DURATION:PT1H
X-Robots-Tag:noindex
X-PUBLISHED-TTL:PT1H
BEGIN:VTIMEZONE
TZID:America/Chicago
BEGIN:DAYLIGHT
TZOFFSETFROM:-0600
TZOFFSETTO:-0500
TZNAME:CDT
DTSTART:20150308T080000
END:DAYLIGHT
BEGIN:STANDARD
TZOFFSETFROM:-0500
TZOFFSETTO:-0600
TZNAME:CST
DTSTART:20151101T070000
END:STANDARD
BEGIN:DAYLIGHT
TZOFFSETFROM:-0600
TZOFFSETTO:-0500
TZNAME:CDT
DTSTART:20160313T080000
END:DAYLIGHT
BEGIN:STANDARD
TZOFFSETFROM:-0500
TZOFFSETTO:-0600
TZNAME:CST
DTSTART:20161106T070000
END:STANDARD
BEGIN:DAYLIGHT
TZOFFSETFROM:-0600
TZOFFSETTO:-0500
TZNAME:CDT
DTSTART:20170312T080000
END:DAYLIGHT
BEGIN:STANDARD
TZOFFSETFROM:-0500
TZOFFSETTO:-0600
TZNAME:CST
DTSTART:20171105T070000
END:STANDARD
END:VTIMEZONE
BEGIN:VEVENT
DTSTART;TZID=America/Chicago:20161102T121000
DTEND;TZID=America/Chicago:20161102T131000
DTSTAMP:20260421T235729
CREATED:20160718T154114Z
LAST-MODIFIED:20160718T154553Z
UID:2713-1478088600-1478092200@northshoreago.org
SUMMARY:FIRST PRESBYTERIAN CHURCH OF ARLINGTON HEIGHTS CONCERT SERIES
DESCRIPTION:FIRST PRESBYTERIAN CHURCH OF ARLINGTON HEIGHTS\n302 N. Dunton\nArlington Heights\, IL 60004\nWednesday\, November 2\, 12:10pm\nMarianne Kim\nPiano and organ recital
URL:https://northshoreago.org/event/first-presbyterian-church-of-arlington-heights-concert-series/
LOCATION:First Presbyterian Church of Lake Forest\, 700 N. Sheridan Ave.\, Lake Forest\, IL\, 60045\, United States
CATEGORIES:Non-NSAGO events
END:VEVENT
BEGIN:VEVENT
DTSTART;TZID=America/Chicago:20161106T180000
DTEND;TZID=America/Chicago:20161106T190000
DTSTAMP:20260421T235729
CREATED:20161003T181041Z
LAST-MODIFIED:20161003T181216Z
UID:2822-1478455200-1478458800@northshoreago.org
SUMMARY:All Saints' Evensong at Christ Church Winnetka
DESCRIPTION:Christ Church Winnetka\n784 Sheridan Road\nWinnetka\, IL 60093\nSunday\, November 6\, 6:00pm\nEvensong\nThe Christ Church Choir\, Richard Clemmitt (conductor)\, Jay Peterson (organist)\nMusic for this traditional Episcopal choral service for All Saints’ Sunday will include organ works by Charles-Marie Widor and Joseph Bonnet and choral works by William Byrd\, Herbert Murrill\, and Rene Clausen.  For more information\, contact Richard Clemmitt at rclemmitt@christchurchwinnetka.org or 847-347-9967 or visithttp://christchurchwinnetka.org/worship/music.
URL:https://northshoreago.org/event/all-saints-service-at-christ-church-winnetka/
LOCATION:Christ Church Winnetka\, 784 Sheridan Road\, Winnetka\, IL\, 60093\, United States
CATEGORIES:Non-NSAGO events
END:VEVENT
BEGIN:VEVENT
DTSTART;TZID=America/Chicago:20161112T090000
DTEND;TZID=America/Chicago:20161112T120000
DTSTAMP:20260421T235729
CREATED:20160531T194614Z
LAST-MODIFIED:20160531T200003Z
UID:2650-1478941200-1478952000@northshoreago.org
SUMMARY:CREATIVE HYMN PLAYING and ADAPTING PIANO MUSIC FOR ORGAN WORKSHOPS
DESCRIPTION:Saturday\, November 12\, 2017\, 9:00am-noon\nFirst Presbyterian Church of Arlington Heights\n302 N. Dunton Street\, Arlington Heights\, IL 60004\nCREATIVE HYMN PLAYING\nADAPTING PIANO MUSIC FOR THE ORGAN\nOne of our most important jobs as organists is to encourage congregational singing with hymn playing that enhances the lyrics of hymns. In this workshop you’ll find tips on doing that through phrasing\, registration\, alternate harmonizations and modulations. Secondly\, as organists\, we’re all called on frequently to play music on the organ that was written for piano\, or transcribed for piano from an orchestral score. In this workshop\, you’ll hear tips on effectively adapting piano music—anthems\, solos\, orchestral transcriptions — to the organ. Contact: Sharon Peterson (speterson@igc.org). \n 
URL:https://northshoreago.org/event/creative-hymn-playing-and-adapting-piano-music-for-organ-workshops/
LOCATION:First Presbyterian Church of Arlington Heights\, 302 N. Dunton Ave.\, Arlington Heights\, IL\, 60004\, United States
CATEGORIES:NSAGO events
END:VEVENT
BEGIN:VEVENT
DTSTART;TZID=America/Chicago:20161113T160000
DTEND;TZID=America/Chicago:20161113T170000
DTSTAMP:20260421T235729
CREATED:20160718T154411Z
LAST-MODIFIED:20160718T154520Z
UID:2714-1479052800-1479056400@northshoreago.org
SUMMARY:FIRST PRESBYTERIAN CHURCH OF ARLINGTON HEIGHTS CONCERT SERIES
DESCRIPTION:FIRST PRESBYTERIAN CHURCH OF ARLINGTON HEIGHTS\n302 N. Dunton\nArlington Heights\, IL 60004\nSunday\, November 13\, 4:00pm\nPipes and Hammers\nChristopher Urban\, organ; Chuck Beech\, piano\nA program featuring popular piano and organ duets.
URL:https://northshoreago.org/event/2714/
LOCATION:First Presbyterian Church of Arlington Heights\, 302 N. Dunton Ave.\, Arlington Heights\, IL\, 60004\, United States
CATEGORIES:Non-NSAGO events
END:VEVENT
BEGIN:VEVENT
DTSTART;TZID=America/Chicago:20161118T193000
DTEND;TZID=America/Chicago:20161118T213000
DTSTAMP:20260421T235729
CREATED:20160915T154525Z
LAST-MODIFIED:20160917T213717Z
UID:2791-1479497400-1479504600@northshoreago.org
SUMMARY:Stephen Tharp at Fourth Presbyterian Church
DESCRIPTION:Fourth Presbyterian Church\n126 E Chestnut St\nChicago\, IL 60611\nFriday\, November 18\, 7:30pm\nStephen Tharp\, organist \nA solo program to commemorate the one year anniversary of the new Quimby organ at Fourth Church. The concert will include music by Duruflé\, Wagner\, Howells\, organ works written for Mr. Tharp by George Baker and retired Fourth Church Organist and Choirmaster\, Morgan Simmons\, and Mr. Tharp’s own transcription of Stravinsky’s The Rite of Spring.
URL:https://northshoreago.org/event/stephen-tharp-at-fourth-presbyterian-church/
LOCATION:Fourth Presbyterian Church\, 126 E. Chestnut\, Chicago\, 60611\, United States
CATEGORIES:Non-NSAGO events
END:VEVENT
BEGIN:VEVENT
DTSTART;TZID=America/Chicago:20161120T150000
DTEND;TZID=America/Chicago:20161120T160000
DTSTAMP:20260421T235729
CREATED:20160718T163227Z
LAST-MODIFIED:20160718T172359Z
UID:2728-1479654000-1479657600@northshoreago.org
SUMMARY:LOYOLA UNIVERSITY THIRD SUNDAY ORGAN CONCERT SERIES
DESCRIPTION:Organ Concert Series\nLoyola University Chicago\nMadonna della Strada Chapel\n1032 W Sheridan Road\nChicago\, IL 60660\nNovember 20\, 2016\n3:00pm\nVOX3 – Music of Antonin Dvorak\nSTEVEN BETANCOURT\, organist\nChicago\, Illinois\n \nFree parking\, enter off of West Sheridan Road and Kenmore Avenue. Free admission for all concerts\, no offering taken.  For more information\, call 773-508-2195.  For program\, stoplists\, and other information\, visit www.LUC.edu/organ.
URL:https://northshoreago.org/event/loyola-university-third-sunday-organ-concert-series-2/
LOCATION:MADONNA DELLA STRADA CHAPEL\, 1032 W Sheridan Road\, Chicago\, IL\, 60660\, United States
CATEGORIES:Non-NSAGO events
END:VEVENT
BEGIN:VEVENT
DTSTART;TZID=America/Chicago:20161128T133000
DTEND;TZID=America/Chicago:20161128T143000
DTSTAMP:20260421T235729
CREATED:20160718T153142Z
LAST-MODIFIED:20160718T153412Z
UID:2712-1480339800-1480343400@northshoreago.org
SUMMARY:ELLIOTT CHAPEL ORGAN RECITALS
DESCRIPTION:ELLIOTT CHAPEL\, PRESBYTERIAN HOMES\n3131 Simpson Street\nEvanston\, IL\, 60201\nMonday\, November 28\, 1:30pm\nKatie Minion\nBloomington\, IN
URL:https://northshoreago.org/event/elliott-chapel-organ-recitals-3/
LOCATION:IL
CATEGORIES:Non-NSAGO events
END:VEVENT
END:VCALENDAR