BEGIN:VCALENDAR
VERSION:2.0
PRODID:-//North Shore Chapter of the American Guild of Organists - ECPv6.15.20//NONSGML v1.0//EN
CALSCALE:GREGORIAN
METHOD:PUBLISH
X-WR-CALNAME:North Shore Chapter of the American Guild of Organists
X-ORIGINAL-URL:https://northshoreago.org
X-WR-CALDESC:Events for North Shore Chapter of the American Guild of Organists
REFRESH-INTERVAL;VALUE=DURATION:PT1H
X-Robots-Tag:noindex
X-PUBLISHED-TTL:PT1H
BEGIN:VTIMEZONE
TZID:America/Chicago
BEGIN:DAYLIGHT
TZOFFSETFROM:-0600
TZOFFSETTO:-0500
TZNAME:CDT
DTSTART:20160313T080000
END:DAYLIGHT
BEGIN:STANDARD
TZOFFSETFROM:-0500
TZOFFSETTO:-0600
TZNAME:CST
DTSTART:20161106T070000
END:STANDARD
BEGIN:DAYLIGHT
TZOFFSETFROM:-0600
TZOFFSETTO:-0500
TZNAME:CDT
DTSTART:20170312T080000
END:DAYLIGHT
BEGIN:STANDARD
TZOFFSETFROM:-0500
TZOFFSETTO:-0600
TZNAME:CST
DTSTART:20171105T070000
END:STANDARD
BEGIN:DAYLIGHT
TZOFFSETFROM:-0600
TZOFFSETTO:-0500
TZNAME:CDT
DTSTART:20180311T080000
END:DAYLIGHT
BEGIN:STANDARD
TZOFFSETFROM:-0500
TZOFFSETTO:-0600
TZNAME:CST
DTSTART:20181104T070000
END:STANDARD
END:VTIMEZONE
BEGIN:VEVENT
DTSTART;TZID=America/Chicago:20170106T180000
DTEND;TZID=America/Chicago:20170106T210000
DTSTAMP:20260421T205753
CREATED:20160531T194118Z
LAST-MODIFIED:20160531T195944Z
UID:2649-1483725600-1483736400@northshoreago.org
SUMMARY:THIRD ANNUAL EPIPHANY PARTY
DESCRIPTION:Friday\, January 6\, 2017\, 6:00 pm\nDean Andrea Handley’s home\n516 Greenwood St\, Evanston\, IL 60201\nTHIRD ANNUAL EPIPHANY PARTY\nJoin us for our third Epiphany party at our dean’s festively decorated home! Appetizers and drinks at 6\, dinner at 6:30\, with program following of Christmas and holiday favorites. Contact: Bev Sheridan (bevsherida@yahoo.com). \n  \n 
URL:https://northshoreago.org/event/third-annual-epiphany-party/
LOCATION:Dean Andrea Handley’s home\, 516 Greenwood Avenue\, Evanston\, IL\, 60201\, United States
CATEGORIES:NSAGO events
END:VEVENT
BEGIN:VEVENT
DTSTART;TZID=America/Chicago:20170115T150000
DTEND;TZID=America/Chicago:20170115T160000
DTSTAMP:20260421T205753
CREATED:20160718T163618Z
LAST-MODIFIED:20160718T172217Z
UID:2730-1484492400-1484496000@northshoreago.org
SUMMARY:LOYOLA UNIVERSITY THIRD SUNDAY ORGAN CONCERT SERIES
DESCRIPTION:Organ Concert Series\nLoyola University Chicago\nMadonna della Strada Chapel\n1032 W Sheridan Road\nChicago\, IL 60660\nJanuary 15\, 2017\,  3:00pm\nDAVID RITTER\, organist\nChicago\, IL \nFree parking\, enter off of West Sheridan Road and Kenmore Avenue. Free admission for all concerts\, no offering taken.  For more information\, call 773-508-2195.  For program\, stoplists\, and other information\, visit www.LUC.edu/organ.
URL:https://northshoreago.org/event/loyola-university-third-sunday-organ-concert-series-3/
LOCATION:MADONNA DELLA STRADA CHAPEL\, 1032 W Sheridan Road\, Chicago\, IL\, 60660\, United States
CATEGORIES:Non-NSAGO events
END:VEVENT
BEGIN:VEVENT
DTSTART;TZID=America/Chicago:20170120T193000
DTEND;TZID=America/Chicago:20170120T213000
DTSTAMP:20260421T205753
CREATED:20170110T214725Z
LAST-MODIFIED:20170112T174456Z
UID:2989-1484940600-1484947800@northshoreago.org
SUMMARY:Gaudete Brass quintet and Christine Kraemer\, organist
DESCRIPTION:St. Luke’s Episcopal Church\n939 Hinman Avenue\nEvanston\, IL 60202\nFriday\, January 20\, 2017\, 7:30 pm \nAn evening of brass and organ music with the Gaudete Brass quintet and Christine Kraemer\, organist\n\nHeroic music by Cesar Franck\, Jean Langlais\, and Marcel Dupre and new music by American composers Jessica Hunt (b. 1987) and Carlyle Sharpe (b. 1965)\, former Berlin Philharmonic principal horn Bernhard Krol\, and Petr Eben\, “the Czech Messiaen”\n\nTickets $25 general; $15 senior; students free\n\nFor more information contact Christine Kraemer:\nckraemer@stlukesevanston.org\nor go to: Opus327.org
URL:https://northshoreago.org/event/gaudete-brass-quintet-and-christine-kraemer-organist/
LOCATION:St. Luke’s Episcopal Church\, 939 Hinman Avenue\, Evanston\, IL\, 60202\, United States
CATEGORIES:Non-NSAGO events
END:VEVENT
BEGIN:VEVENT
DTSTART;TZID=America/Chicago:20170123T133000
DTEND;TZID=America/Chicago:20170123T143000
DTSTAMP:20260421T205753
CREATED:20161003T181522Z
LAST-MODIFIED:20161003T181522Z
UID:2826-1485178200-1485181800@northshoreago.org
SUMMARY:ELLIOTT CHAPEL ORGAN RECITAL SERIES
DESCRIPTION:ELLIOTT CHAPEL\, PRESBYTERIAN HOMES\n3131 Simpson Street\nEvanston\, IL\, 60201\nMonday\, January 23\, 1:30pm\nDerrick Meador\nLaurel\, Mississippi
URL:https://northshoreago.org/event/elliott-chapel-organ-recital-series/
LOCATION:Elliott Chapel\, 3131 Simpson Street\, Evanston\, IL\, 60201\, United States
CATEGORIES:Non-NSAGO events
END:VEVENT
BEGIN:VEVENT
DTSTART;VALUE=DATE:20170128
DTEND;VALUE=DATE:20170129
DTSTAMP:20260421T205753
CREATED:20161130T234323Z
LAST-MODIFIED:20170110T214929Z
UID:2913-1485561600-1485647999@northshoreago.org
SUMMARY:January Jubilee in LaGrange
DESCRIPTION:January 28\, 2017\, Emmanuel Episcopal Church.  Register here: Jan Jubilee registration form
URL:https://northshoreago.org/event/january-jubilee-in-lagrange/
LOCATION:EMMANUEL EPISCOPAL CHURCH\, 203 S Kensington\, LaGrange\, IL\, 60525\, United States
END:VEVENT
END:VCALENDAR