BEGIN:VCALENDAR
VERSION:2.0
PRODID:-//North Shore Chapter of the American Guild of Organists - ECPv6.15.20//NONSGML v1.0//EN
CALSCALE:GREGORIAN
METHOD:PUBLISH
X-WR-CALNAME:North Shore Chapter of the American Guild of Organists
X-ORIGINAL-URL:https://northshoreago.org
X-WR-CALDESC:Events for North Shore Chapter of the American Guild of Organists
REFRESH-INTERVAL;VALUE=DURATION:PT1H
X-Robots-Tag:noindex
X-PUBLISHED-TTL:PT1H
BEGIN:VTIMEZONE
TZID:America/Chicago
BEGIN:DAYLIGHT
TZOFFSETFROM:-0600
TZOFFSETTO:-0500
TZNAME:CDT
DTSTART:20160313T080000
END:DAYLIGHT
BEGIN:STANDARD
TZOFFSETFROM:-0500
TZOFFSETTO:-0600
TZNAME:CST
DTSTART:20161106T070000
END:STANDARD
BEGIN:DAYLIGHT
TZOFFSETFROM:-0600
TZOFFSETTO:-0500
TZNAME:CDT
DTSTART:20170312T080000
END:DAYLIGHT
BEGIN:STANDARD
TZOFFSETFROM:-0500
TZOFFSETTO:-0600
TZNAME:CST
DTSTART:20171105T070000
END:STANDARD
BEGIN:DAYLIGHT
TZOFFSETFROM:-0600
TZOFFSETTO:-0500
TZNAME:CDT
DTSTART:20180311T080000
END:DAYLIGHT
BEGIN:STANDARD
TZOFFSETFROM:-0500
TZOFFSETTO:-0600
TZNAME:CST
DTSTART:20181104T070000
END:STANDARD
END:VTIMEZONE
BEGIN:VEVENT
DTSTART;TZID=America/Chicago:20170405T121000
DTEND;TZID=America/Chicago:20170405T131000
DTSTAMP:20260421T062808
CREATED:20160718T160039Z
LAST-MODIFIED:20160718T160039Z
UID:2721-1491394200-1491397800@northshoreago.org
SUMMARY:FIRST PRESBYTERIAN CHURCH OF ARLINGTON HEIGHTS CONCERT SERIES
DESCRIPTION:FIRST PRESBYTERIAN CHURCH OF ARLINGTON HEIGHTS\n302 N. Dunton\nArlington Heights\, IL 60004\nWednesday\, April 5\, 12:10pm\nChristopher Urban\, organ
URL:https://northshoreago.org/event/first-presbyterian-church-of-arlington-heights-concert-series-3/
LOCATION:First Presbyterian Church of Arlington Heights\, 302 N. Dunton Ave.\, Arlington Heights\, IL\, 60004\, United States
CATEGORIES:Non-NSAGO events
END:VEVENT
BEGIN:VEVENT
DTSTART;TZID=America/Chicago:20170423T160000
DTEND;TZID=America/Chicago:20170423T180000
DTSTAMP:20260421T062808
CREATED:20170112T174203Z
LAST-MODIFIED:20170112T174203Z
UID:2993-1492963200-1492970400@northshoreago.org
SUMMARY:Derek Nickels in Re-Dedication Recital
DESCRIPTION:Sunday\, April 23\, 4:00 p.m.\, Church of the Holy Comforter presents Derek Nickels in a Re-Dedication recital of Aeolian-Skinner Opus 1455\, 222 Kenilworth Avenue\, Kenilworth\, IL.
URL:https://northshoreago.org/event/derek-nickels-in-re-dedication-recital/
LOCATION:Church of the Holy Comforter\, 222 Kenilworth Avenue\, Kenilworth\, 60043\, United States
CATEGORIES:Non-NSAGO events
END:VEVENT
BEGIN:VEVENT
DTSTART;TZID=America/Chicago:20170424T133000
DTEND;TZID=America/Chicago:20170424T143000
DTSTAMP:20260421T062808
CREATED:20161003T181950Z
LAST-MODIFIED:20170323T015028Z
UID:2832-1493040600-1493044200@northshoreago.org
SUMMARY:ELLIOTT CHAPEL ORGAN RECITAL SERIES
DESCRIPTION:ELLIOTT CHAPEL\, PRESBYTERIAN HOMES\n3131 Simpson Street\nEvanston\, IL\, 60201\nMonday\, April 24\, 1:30pm\nScott Montgomery\nChampaign\, IL
URL:https://northshoreago.org/event/elliott-chapel-organ-recital-series-4/
LOCATION:Elliott Chapel\, 3131 Simpson Street\, Evanston\, IL\, 60201\, United States
CATEGORIES:Non-NSAGO events
ATTACH;FMTTYPE=image/jpeg:https://northshoreago.org/wp-content/uploads/2016/10/PresbyHome04-e1490213485987.jpg
END:VEVENT
BEGIN:VEVENT
DTSTART;TZID=America/Chicago:20170428T193000
DTEND;TZID=America/Chicago:20170428T213000
DTSTAMP:20260421T062808
CREATED:20170215T192946Z
LAST-MODIFIED:20170323T015516Z
UID:3040-1493407800-1493415000@northshoreago.org
SUMMARY:Bach Week Festival: Dueling Divas
DESCRIPTION:An anticipated rite of spring in the Chicagoland area is the acclaimed Bach Week Festival. It was founded in 1974 by Karel Paukert and directed in successive years by Richard Webster\, the current conductor. Contact for ticket orders and information: info@bachweek.org; or phone: 847-269-9050. \nDueling Divas\nFriday\, April 28  7:30 PM\, Nichols Concert Hall\n1490 Chicago Avenue\, Evanston \n\n\n\nSonata for Violin and Harpsichord\nDuet: Wir eilen from Cantata 78\nCantata 54: Widerstehe doch der Sünde\nDuet: Christe eleison from Mass in B minor\, BWV 232\nCantata 202: Weichet nur\, betrübte SchattenJosefien Stoppelenburg\, soprano\nSusan Platts\, mezzo-soprano\nJason Moy\, harpsichord\nBach Week Festival Chamber Orchestra \n  \n 
URL:https://northshoreago.org/event/bach-week-festival-dueling-divas/
LOCATION:Nichols Hall\, 1490 Chicago Ave\, Evanston\, IL\, 60201\, United States
CATEGORIES:Non-NSAGO events
ATTACH;FMTTYPE=image/jpeg:https://northshoreago.org/wp-content/uploads/2017/02/bach-etching.jpg
END:VEVENT
BEGIN:VEVENT
DTSTART;TZID=America/Chicago:20170430T160000
DTEND;TZID=America/Chicago:20170430T180000
DTSTAMP:20260421T062808
CREATED:20160531T200345Z
LAST-MODIFIED:20170523T171740Z
UID:2654-1493568000-1493575200@northshoreago.org
SUMMARY:SPRING HYMN FESTIVAL
DESCRIPTION:Sunday\, April 30\, 2017\, 4:00pm\nWinnetka Congregational Church\n725 Pine Street\, Winnetka\, IL 60093\nSPRING HYMN FESTIVAL\nJoin us at for a rich time of hymn singing\, led by David Cherwien. Recognized for his contributions to the field of church music and liturgy\, Cherwien is in demand as a clinician and hymn festival leader across the country. Contact: Philip McPeek (philipmcpeek@gmail.com). \n 
URL:https://northshoreago.org/event/spring-hymn-festival/
LOCATION:Winnetka Congregational Church\, 725 Pine Street\, Winnetka\, IL\, 60093\, United States
CATEGORIES:NSAGO events
ATTACH;FMTTYPE=image/png:https://northshoreago.org/wp-content/uploads/2016/05/Logo.png
END:VEVENT
END:VCALENDAR