BEGIN:VCALENDAR
VERSION:2.0
PRODID:-//North Shore Chapter of the American Guild of Organists - ECPv6.15.20//NONSGML v1.0//EN
CALSCALE:GREGORIAN
METHOD:PUBLISH
X-WR-CALNAME:North Shore Chapter of the American Guild of Organists
X-ORIGINAL-URL:https://northshoreago.org
X-WR-CALDESC:Events for North Shore Chapter of the American Guild of Organists
REFRESH-INTERVAL;VALUE=DURATION:PT1H
X-Robots-Tag:noindex
X-PUBLISHED-TTL:PT1H
BEGIN:VTIMEZONE
TZID:America/Chicago
BEGIN:DAYLIGHT
TZOFFSETFROM:-0600
TZOFFSETTO:-0500
TZNAME:CDT
DTSTART:20210314T080000
END:DAYLIGHT
BEGIN:STANDARD
TZOFFSETFROM:-0500
TZOFFSETTO:-0600
TZNAME:CST
DTSTART:20211107T070000
END:STANDARD
BEGIN:DAYLIGHT
TZOFFSETFROM:-0600
TZOFFSETTO:-0500
TZNAME:CDT
DTSTART:20220313T080000
END:DAYLIGHT
BEGIN:STANDARD
TZOFFSETFROM:-0500
TZOFFSETTO:-0600
TZNAME:CST
DTSTART:20221106T070000
END:STANDARD
BEGIN:DAYLIGHT
TZOFFSETFROM:-0600
TZOFFSETTO:-0500
TZNAME:CDT
DTSTART:20230312T080000
END:DAYLIGHT
BEGIN:STANDARD
TZOFFSETFROM:-0500
TZOFFSETTO:-0600
TZNAME:CST
DTSTART:20231105T070000
END:STANDARD
END:VTIMEZONE
BEGIN:VEVENT
DTSTART;TZID=America/Chicago:20220618T170000
DTEND;TZID=America/Chicago:20220618T200000
DTSTAMP:20260419T141914
CREATED:20210702T185119Z
LAST-MODIFIED:20220601T134709Z
UID:7096-1655571600-1655582400@northshoreago.org
SUMMARY:End of Year Chapter Picnic
DESCRIPTION:Saturday\, June 18\, 2022\, 5:00pm\nJoin us at Christ Church in Winnetka for a festive party to close our season together. Please be sure to come to Christ Church at 784 Sheridan Road\, not to another building also owned by Christ Church elsewhere in Winnetka. For more information\, contact Richard Clemmitt (rclemmitt@christchurchwinnetka.org). \nPlease RSVP Online by June 12: \nRSVP Now
URL:https://northshoreago.org/event/end-of-year-chapter-picnic/
LOCATION:Christ Church Winnetka\, 784 Sheridan Road\, Winnetka\, IL\, 60093\, United States
CATEGORIES:2021-22 Season Program
ATTACH;FMTTYPE=image/png:https://northshoreago.org/wp-content/uploads/2021/07/NSAGO-Picnic-Post.png
END:VEVENT
END:VCALENDAR